BEGIN:VCALENDAR
VERSION:2.0
PRODID:-//ChamberMaster//Event Calendar 2.0//EN
METHOD:PUBLISH
X-PUBLISHED-TTL:P3D
REFRESH-INTERVAL:P3D
CALSCALE:GREGORIAN
BEGIN:VEVENT
DTSTART:20251221T013000Z
DTEND:20251221T043000Z
X-MICROSOFT-CDO-ALLDAYEVENT:FALSE
SUMMARY:Jingle Terrace Nights
DESCRIPTION:The Moonlight Amphitheatre's Jingle Terrace Nights is a free holiday event featuring light shows and activities. Bring your family and friends to enjoy refreshments\, festive displays\, live entertainment\, photo opportunities\, and other special surprises. All ages welcome! Food and drinks are available for purchase.\n\n\n\n\n\n\n \n\nNightly Activities include:\n\nVideo/Light Shows\n\nPhotos with Santa\n\nKids Crafts & Games \n\nCostumed Characters\n\nChristmas Highland Cows\n\nMiniature Donkeys
X-ALT-DESC;FMTTYPE=text/html:<div class="content_area normal_content_area clearfix  " id="widget_3077_9957_6117" style="box-sizing: border-box\; padding: 12px 0px 0px\; color: rgb(17\, 11\, 48)\; font-family: &quot\;Open Sans&quot\;\, sans-serif\; font-size: 20px\;">\n<p style="box-sizing: border-box\; margin: 0px 0px 1em\; text-align: center\;">The Moonlight Amphitheatre&rsquo\;s Jingle Terrace Nights is a free holiday event featuring light shows and activities. Bring your family and friends to enjoy refreshments\, festive displays\, live entertainment\, photo opportunities\, and other special surprises. All ages welcome! Food and drinks are available for purchase.</p>\n</div>\n\n<div class="vi-content-columns content_area clearfix" id="widget_3400_11208_6117" style="box-sizing: border-box\; padding: 12px 0px 0px\; background-image: initial\; background-position: initial\; background-size: initial\; background-repeat: initial\; background-attachment: initial\; background-origin: initial\; background-clip: initial\; color: rgb(17\, 11\, 48)\; font-family: &quot\;Open Sans&quot\;\, sans-serif\; font-size: 20px\;">\n<div class="vi-content-columns-row" style="box-sizing: border-box\; padding: 0px\; margin: 0px -10px\; min-width: calc(100% + 20px)\; display: flex\;">\n<div class="vi-content-columns-column vi-content-column-background" style="box-sizing: border-box\; margin: 0px 10px\; padding: 20px 13.1094px\; overflow: hidden\; width: 354.969px\;">\n<div class="vi-content-columns-content" style="box-sizing: border-box\;">\n<center style="box-sizing: border-box\;">&nbsp\;</center>\n\n<p style="box-sizing: border-box\; margin: 0px 0px 1em\;"><font class="subtitle" style="box-sizing: border-box\; font-size: 24px\; font-weight: 600\;">Nightly Activities include:</font></p>\n\n<p style="box-sizing: border-box\; margin: 0px 0px 1em\;"><font class="subtitle" style="box-sizing: border-box\; font-size: 24px\; font-weight: 600\;">Video/Light Shows<br style="box-sizing: border-box\;" />\nPhotos with Santa<br style="box-sizing: border-box\;" />\nKids Crafts &amp\; Games&nbsp\;<br style="box-sizing: border-box\;" />\nCostumed Characters<br style="box-sizing: border-box\;" />\nChristmas Highland Cows<br style="box-sizing: border-box\;" />\nMiniature Donkeys</font></p>\n</div>\n</div>\n</div>\n</div>\n
LOCATION:Moonlight Amphitheatre 1250 Vale Terrace Dr. Vista\, CA 92084
UID:e.493.29622
SEQUENCE:3
DTSTAMP:20260422T172328Z
URL:https://business.vistachamber.org/events/details/jingle-terrace-nights-29622
END:VEVENT

END:VCALENDAR
