BEGIN:VCALENDAR
VERSION:2.0
PRODID:-//ChamberMaster//Event Calendar 2.0//EN
METHOD:PUBLISH
X-PUBLISHED-TTL:P3D
REFRESH-INTERVAL:P3D
CALSCALE:GREGORIAN
BEGIN:VEVENT
DTSTART:20250725T000000Z
DTEND:20250725T020000Z
X-MICROSOFT-CDO-ALLDAYEVENT:FALSE
SUMMARY:Joint Chamber Mega Mixer
DESCRIPTION:Join us for a MEGA Business Mixer with the Carlsbad\, Oceanside\, San Marcos\, and Fallbrook Chambers at Children's Paradise's new location!\n\n\n\nMeet and mingle with professionals from all over North County in this unique setting. Celebrate the Grand Opening of Children Paradise's new Carlsbad/Oceanside center.\n\n\nREGISTER HERE
X-ALT-DESC;FMTTYPE=text/html:Join us for a MEGA Business Mixer with the Carlsbad\, Oceanside\, San Marcos\, and Fallbrook Chambers at Children&#39\;s Paradise&#39\;s new location!<br />\n<br />\nMeet and mingle with professionals from all over North County in this unique setting. Celebrate the Grand Opening of Children Paradise&#39\;s new Carlsbad/Oceanside center.\n<div style="text-align: center\;"><br />\n<u><span style="font-size:20px\;"><strong><a href="https://lp.constantcontactpages.com/ev/reg/pkwh8sr"><span style="color:#FF0000\;">REGISTER HERE</span></a></strong></span></u></div>\n
LOCATION:3375 Marron Road Carlsbad\, CA 92010
UID:e.493.29314
SEQUENCE:3
DTSTAMP:20260422T190551Z
URL:https://business.vistachamber.org/events/details/joint-chamber-mega-mixer-29314
END:VEVENT

END:VCALENDAR
