BEGIN:VCALENDAR
VERSION:2.0
PRODID:-//ChamberMaster//Event Calendar 2.0//EN
METHOD:PUBLISH
X-PUBLISHED-TTL:P3D
REFRESH-INTERVAL:P3D
CALSCALE:GREGORIAN
BEGIN:VEVENT
DTSTART:20250914T000000Z
DTEND:20250914T050000Z
X-MICROSOFT-CDO-ALLDAYEVENT:FALSE
SUMMARY:Kids for Country
DESCRIPTION:Vista Palomar Riders is pleased to welcome former Brad Johnson and the Killin' Time Band to our big stage on September 13\, 2025 at Vista Palomar Riders\, 973 Little Gopher Canyon Road in Vista\, CA.  Gates open at 4PM\, check-in begins at 5PM and all tickets must be pre-purchased here.  No tickets will be sold on-site at the event.\n\n \n\nVIP Tables\, individual VIP tickets\, and General Admission options are available for guests 21+.  Our event will feature a silent auction a live calcutta for mechanical bull riders\, delicious dining and libations.  A US Marine and war veteran\, Brad was recently featured in Ben Affleck's recent action thriller the Accountant 2 and routinely sells out major venues throughout the western United States. \n\n \n\nOur goals are simple:\n\n \n\n       To encourage and grow our country & western culture & values for young people in the community\n\n \n\n       To grow Vista Palomar Riders (VPR) as a high-value\, accessible horsemanship and education asset for everyone in the community\n\n \n\n       To raise funds for the Boys & Girls Club of Vista to help support their community programs\n\n \n\n       To host multiple horse-related educational events per year for everyone in the community\, especially kids\, celebrating horsemanship and cowboy culture.
X-ALT-DESC;FMTTYPE=text/html:<p class="font_8 wixui-rich-text__text" style="background: transparent\; border: 0px\; outline: 0px\; padding: 0px\; vertical-align: baseline\; pointer-events: auto\; font-variant-numeric: normal\; font-variant-east-asian: normal\; font-variant-alternates: normal\; font-size-adjust: none\; font-kerning: auto\; font-optical-sizing: auto\; font-feature-settings: normal\; font-variation-settings: normal\; font-variant-position: normal\; font-variant-emoji: normal\; font-stretch: normal\; font-size: 16px\; line-height: 22.4px\; font-family: helvetica-w01-roman\, sans-serif\; color: rgb(255\, 255\, 255)\; margin-block: 0px\; margin: 0px\;"><span style="font-size:16px\;"><span style="font-family:arial\;"><span style="color:#000000\;"><span class="color_36 wixui-rich-text__text" style="background: transparent\; border: 0px\; margin: 0px\; outline: 0px\; padding: 0px\; vertical-align: baseline\;">Vista Palomar Riders is pleased to welcome former Brad Johnson and the Killin&#39\; Time Band to our big stage on September 13\, 2025 at Vista Palomar Riders\, 973 Little Gopher Canyon Road in Vista\, CA.&nbsp\; Gates open at 4PM\, check-in begins at 5PM and all tickets must be pre-purchased&nbsp\;</span></span><span class="color_41 wixui-rich-text__text" style="background: transparent\; border: 0px\; margin: 0px\; outline: 0px\; padding: 0px\; vertical-align: baseline\;"><span class="wixui-rich-text__text" style="background: transparent\; border: 0px\; margin: 0px\; outline: 0px\; padding: 0px\; vertical-align: baseline\; text-decoration-line: underline\;"><a class="wixui-rich-text__text" href="https://www.kidsforcountry.com/events/kids-for-country" style="background: transparent\; border: 0px\; margin: 0px\; outline: 0px\; padding: 0px\; vertical-align: baseline\; cursor: pointer\; text-decoration-line: none\; color: inherit\;" target="_self"><span style="color:#000000\;">here</span></a></span></span><span style="color:#000000\;"><span class="color_36 wixui-rich-text__text" style="background: transparent\; border: 0px\; margin: 0px\; outline: 0px\; padding: 0px\; vertical-align: baseline\;">.&nbsp\; No tickets will be sold on-site at the event.</span></span></span></span></p>\n\n<p class="font_8 wixui-rich-text__text" style="background: transparent\; border: 0px\; outline: 0px\; padding: 0px\; vertical-align: baseline\; pointer-events: auto\; font-variant-numeric: normal\; font-variant-east-asian: normal\; font-variant-alternates: normal\; font-size-adjust: none\; font-kerning: auto\; font-optical-sizing: auto\; font-feature-settings: normal\; font-variation-settings: normal\; font-variant-position: normal\; font-variant-emoji: normal\; font-stretch: normal\; font-size: 16px\; line-height: 22.4px\; font-family: helvetica-w01-roman\, sans-serif\; color: rgb(255\, 255\, 255)\; margin-block: 0px\; margin: 0px\;">&nbsp\;</p>\n\n<p class="font_8 wixui-rich-text__text" style="background: transparent\; border: 0px\; outline: 0px\; padding: 0px\; vertical-align: baseline\; pointer-events: auto\; font-variant-numeric: normal\; font-variant-east-asian: normal\; font-variant-alternates: normal\; font-size-adjust: none\; font-kerning: auto\; font-optical-sizing: auto\; font-feature-settings: normal\; font-variation-settings: normal\; font-variant-position: normal\; font-variant-emoji: normal\; font-stretch: normal\; font-size: 16px\; line-height: 22.4px\; font-family: helvetica-w01-roman\, sans-serif\; color: rgb(255\, 255\, 255)\; margin-block: 0px\; margin: 0px\;"><span style="font-size:16px\;"><span style="font-family:arial\;"><span style="color:#000000\;"><span class="color_36 wixui-rich-text__text" style="background: transparent\; border: 0px\; margin: 0px\; outline: 0px\; padding: 0px\; vertical-align: baseline\;">VIP Tables\, individual VIP tickets\, and General Admission options are available for guests 21+.&nbsp\; Our event will feature a silent auction a live calcutta for mechanical bull riders\, delicious dining and libations.&nbsp\; A US Marine and war veteran\, Brad was recently featured in Ben Affleck&#39\;s recent action thriller the Accountant 2 and routinely sells out major venues throughout the western United States.&nbsp\;</span></span></span></span></p>\n\n<p class="font_8 wixui-rich-text__text" style="background: transparent\; border: 0px\; outline: 0px\; padding: 0px\; vertical-align: baseline\; pointer-events: auto\; font-variant-numeric: normal\; font-variant-east-asian: normal\; font-variant-alternates: normal\; font-size-adjust: none\; font-kerning: auto\; font-optical-sizing: auto\; font-feature-settings: normal\; font-variation-settings: normal\; font-variant-position: normal\; font-variant-emoji: normal\; font-stretch: normal\; font-size: 16px\; line-height: 22.4px\; font-family: helvetica-w01-roman\, sans-serif\; color: rgb(255\, 255\, 255)\; margin-block: 0px\; margin: 0px\;"><span style="font-size:16px\;"><span style="font-family:arial\;"><span style="color:#000000\;"><span class="color_36 wixui-rich-text__text" style="background: transparent\; border: 0px\; margin: 0px\; outline: 0px\; padding: 0px\; vertical-align: baseline\;">&#8203\;</span></span></span></span></p>\n\n<h4 class="font_4 wixui-rich-text__text" style="background: transparent\; border: 0px\; outline: 0px\; padding: 0px\; vertical-align: baseline\; pointer-events: auto\; font-variant-numeric: normal\; font-variant-east-asian: normal\; font-variant-alternates: normal\; font-size-adjust: none\; font-kerning: auto\; font-optical-sizing: auto\; font-feature-settings: normal\; font-variation-settings: normal\; font-variant-position: normal\; font-variant-emoji: normal\; font-stretch: normal\; font-size: 25px\; line-height: 35px\; font-family: fahkwang\, sans-serif\; color: rgb(255\, 255\, 255)\; margin-block: 0px\; margin: 0px\;"><span style="font-size:16px\;"><span style="font-family:arial\;"><span style="color:#000000\;"><span class="color_36 wixui-rich-text__text" style="background: transparent\; border: 0px\; margin: 0px\; outline: 0px\; padding: 0px\; vertical-align: baseline\;">Our goals are simple:</span></span></span></span></h4>\n\n<p class="font_8 wixui-rich-text__text" style="background: transparent\; border: 0px\; outline: 0px\; padding: 0px\; vertical-align: baseline\; pointer-events: auto\; font-variant-numeric: normal\; font-variant-east-asian: normal\; font-variant-alternates: normal\; font-size-adjust: none\; font-kerning: auto\; font-optical-sizing: auto\; font-feature-settings: normal\; font-variation-settings: normal\; font-variant-position: normal\; font-variant-emoji: normal\; font-stretch: normal\; font-size: 16px\; line-height: 22.4px\; font-family: helvetica-w01-roman\, sans-serif\; color: rgb(255\, 255\, 255)\; margin-block: 0px\; margin: 0px\;"><span style="font-size:16px\;"><span style="font-family:arial\;"><span style="color:#000000\;"><span class="color_36 wixui-rich-text__text" style="background: transparent\; border: 0px\; margin: 0px\; outline: 0px\; padding: 0px\; vertical-align: baseline\;">&#8203\;</span></span></span></span></p>\n\n<p class="font_8 wixui-rich-text__text" style="background: transparent\; border: 0px\; outline: 0px\; padding: 0px\; vertical-align: baseline\; pointer-events: auto\; font-variant-numeric: normal\; font-variant-east-asian: normal\; font-variant-alternates: normal\; font-size-adjust: none\; font-kerning: auto\; font-optical-sizing: auto\; font-feature-settings: normal\; font-variation-settings: normal\; font-variant-position: normal\; font-variant-emoji: normal\; font-stretch: normal\; font-size: 16px\; line-height: 22.4px\; font-family: helvetica-w01-roman\, sans-serif\; color: rgb(255\, 255\, 255)\; margin-block: 0px\; margin: 0px\;"><span style="font-size:16px\;"><span style="font-family:arial\;"><span style="color:#000000\;"><span class="color_36 wixui-rich-text__text" style="background: transparent\; border: 0px\; margin: 0px\; outline: 0px\; padding: 0px\; vertical-align: baseline\;">&nbsp\; &nbsp\;&nbsp\; &bull\; To encourage and grow our country &amp\; western culture &amp\; values for young people in the community</span></span></span></span></p>\n\n<p class="font_8 wixui-rich-text__text" style="background: transparent\; border: 0px\; outline: 0px\; padding: 0px\; vertical-align: baseline\; pointer-events: auto\; font-variant-numeric: normal\; font-variant-east-asian: normal\; font-variant-alternates: normal\; font-size-adjust: none\; font-kerning: auto\; font-optical-sizing: auto\; font-feature-settings: normal\; font-variation-settings: normal\; font-variant-position: normal\; font-variant-emoji: normal\; font-stretch: normal\; font-size: 16px\; line-height: 22.4px\; font-family: helvetica-w01-roman\, sans-serif\; color: rgb(255\, 255\, 255)\; margin-block: 0px\; margin: 0px\;"><span style="font-size:16px\;"><span style="font-family:arial\;"><span style="color:#000000\;"><span class="wixui-rich-text__text" style="background: transparent\; border: 0px\; margin: 0px\; outline: 0px\; padding: 0px\; vertical-align: baseline\;">&#8203\;</span></span></span></span></p>\n\n<p class="font_8 wixui-rich-text__text" style="background: transparent\; border: 0px\; outline: 0px\; padding: 0px\; vertical-align: baseline\; pointer-events: auto\; font-variant-numeric: normal\; font-variant-east-asian: normal\; font-variant-alternates: normal\; font-size-adjust: none\; font-kerning: auto\; font-optical-sizing: auto\; font-feature-settings: normal\; font-variation-settings: normal\; font-variant-position: normal\; font-variant-emoji: normal\; font-stretch: normal\; font-size: 16px\; line-height: 22.4px\; font-family: helvetica-w01-roman\, sans-serif\; color: rgb(255\, 255\, 255)\; margin-block: 0px\; margin: 0px\;"><span style="font-size:16px\;"><span style="font-family:arial\;"><span style="color:#000000\;"><span class="color_36 wixui-rich-text__text" style="background: transparent\; border: 0px\; margin: 0px\; outline: 0px\; padding: 0px\; vertical-align: baseline\;">&nbsp\; &nbsp\;&nbsp\; &bull\; To grow Vista Palomar Riders (VPR) as a high-value\, accessible horsemanship and education asset for everyone in the community</span></span></span></span></p>\n\n<p class="font_8 wixui-rich-text__text" style="background: transparent\; border: 0px\; outline: 0px\; padding: 0px\; vertical-align: baseline\; pointer-events: auto\; font-variant-numeric: normal\; font-variant-east-asian: normal\; font-variant-alternates: normal\; font-size-adjust: none\; font-kerning: auto\; font-optical-sizing: auto\; font-feature-settings: normal\; font-variation-settings: normal\; font-variant-position: normal\; font-variant-emoji: normal\; font-stretch: normal\; font-size: 16px\; line-height: 22.4px\; font-family: helvetica-w01-roman\, sans-serif\; color: rgb(255\, 255\, 255)\; margin-block: 0px\; margin: 0px\;"><span style="font-size:16px\;"><span style="font-family:arial\;"><span style="color:#000000\;"><span class="wixui-rich-text__text" style="background: transparent\; border: 0px\; margin: 0px\; outline: 0px\; padding: 0px\; vertical-align: baseline\;">&#8203\;</span></span></span></span></p>\n\n<p class="font_8 wixui-rich-text__text" style="background: transparent\; border: 0px\; outline: 0px\; padding: 0px\; vertical-align: baseline\; pointer-events: auto\; font-variant-numeric: normal\; font-variant-east-asian: normal\; font-variant-alternates: normal\; font-size-adjust: none\; font-kerning: auto\; font-optical-sizing: auto\; font-feature-settings: normal\; font-variation-settings: normal\; font-variant-position: normal\; font-variant-emoji: normal\; font-stretch: normal\; font-size: 16px\; line-height: 22.4px\; font-family: helvetica-w01-roman\, sans-serif\; color: rgb(255\, 255\, 255)\; margin-block: 0px\; margin: 0px\;"><span style="font-size:16px\;"><span style="font-family:arial\;"><span style="color:#000000\;"><span class="color_36 wixui-rich-text__text" style="background: transparent\; border: 0px\; margin: 0px\; outline: 0px\; padding: 0px\; vertical-align: baseline\;">&nbsp\; &nbsp\;&nbsp\; &bull\; To raise funds for the Boys &amp\; Girls Club of Vista to help support their community programs</span></span></span></span></p>\n\n<p class="font_8 wixui-rich-text__text" style="background: transparent\; border: 0px\; outline: 0px\; padding: 0px\; vertical-align: baseline\; pointer-events: auto\; font-variant-numeric: normal\; font-variant-east-asian: normal\; font-variant-alternates: normal\; font-size-adjust: none\; font-kerning: auto\; font-optical-sizing: auto\; font-feature-settings: normal\; font-variation-settings: normal\; font-variant-position: normal\; font-variant-emoji: normal\; font-stretch: normal\; font-size: 16px\; line-height: 22.4px\; font-family: helvetica-w01-roman\, sans-serif\; color: rgb(255\, 255\, 255)\; margin-block: 0px\; margin: 0px\;"><span style="font-size:16px\;"><span style="font-family:arial\;"><span style="color:#000000\;"><span class="wixui-rich-text__text" style="background: transparent\; border: 0px\; margin: 0px\; outline: 0px\; padding: 0px\; vertical-align: baseline\;">&#8203\;</span></span></span></span></p>\n\n<p class="font_8 wixui-rich-text__text" style="background: transparent\; border: 0px\; outline: 0px\; padding: 0px\; vertical-align: baseline\; pointer-events: auto\; font-variant-numeric: normal\; font-variant-east-asian: normal\; font-variant-alternates: normal\; font-size-adjust: none\; font-kerning: auto\; font-optical-sizing: auto\; font-feature-settings: normal\; font-variation-settings: normal\; font-variant-position: normal\; font-variant-emoji: normal\; font-stretch: normal\; font-size: 16px\; line-height: 22.4px\; font-family: helvetica-w01-roman\, sans-serif\; color: rgb(255\, 255\, 255)\; margin-block: 0px\; margin: 0px\;"><span style="font-size:16px\;"><span style="font-family:arial\;"><span style="color:#000000\;"><span class="color_36 wixui-rich-text__text" style="background: transparent\; border: 0px\; margin: 0px\; outline: 0px\; padding: 0px\; vertical-align: baseline\;">&nbsp\; &nbsp\;&nbsp\; &bull\; To host multiple horse-related educational events per year for everyone in the community\, especially kids\, celebrating horsemanship and cowboy culture.</span></span></span></span></p>\n
LOCATION:Vista Palomar Riders 973 Little Gopher Canyon Rd.
UID:e.493.29482
SEQUENCE:3
DTSTAMP:20260422T114559Z
URL:https://business.vistachamber.org/events/details/kids-for-country-29482
END:VEVENT

END:VCALENDAR
