BEGIN:VCALENDAR
VERSION:2.0
PRODID:-//ChamberMaster//Event Calendar 2.0//EN
METHOD:PUBLISH
X-PUBLISHED-TTL:P3D
REFRESH-INTERVAL:P3D
CALSCALE:GREGORIAN
BEGIN:VEVENT
DTSTART:20240810T170000Z
DTEND:20240810T190000Z
X-MICROSOFT-CDO-ALLDAYEVENT:FALSE
SUMMARY:Kids in the Garden Class
DESCRIPTION:Alta Vista Botanical Gardens invites kids and their families to Saturday Classes featuring hands-on activities\, incredible edibles\, conservation lessons\, and tours of the gardens.\n\n\n\nAugust Class - Water All Around Us\n\n\n\nPre-register with farmerjonesavbg@gmail.com
X-ALT-DESC;FMTTYPE=text/html:<span style="font-size:16px\;"><span style="font-family:arial\;">Alta Vista Botanical Gardens invites kids and their families to Saturday Classes featuring hands-on activities\, incredible edibles\, conservation lessons\, and tours of the gardens.<br />\n<br />\n<strong>August Class - Water All Around Us</strong><br />\n<br />\nPre-register with <strong><a href="mailto:farmerjonesavbg@gmail.com">farmerjonesavbg@gmail.com</a></strong></span></span>
LOCATION:Alta Vista Botanical Gardens 1270 Vale Terrace Drive
UID:e.493.28629
SEQUENCE:3
DTSTAMP:20260423T023548Z
URL:https://business.vistachamber.org/events/details/kids-in-the-garden-class-28629
END:VEVENT

END:VCALENDAR
