BEGIN:VCALENDAR
VERSION:2.0
PRODID:-//ChamberMaster//Event Calendar 2.0//EN
METHOD:PUBLISH
X-PUBLISHED-TTL:P3D
REFRESH-INTERVAL:P3D
CALSCALE:GREGORIAN
BEGIN:VEVENT
DTSTART:20250809T170000Z
DTEND:20250809T190000Z
X-MICROSOFT-CDO-ALLDAYEVENT:FALSE
SUMMARY:Kids in the Garden Class
DESCRIPTION:Water Is Wonderful   learn about VID   how do we use water? How can we save water?  How can we have fun with water?\n\n\n\n	 \n	The Gardens are located at 1270 Vale Terrace Drive in Vista\, at the top of the hill inside Brengle Terrace Park.\n\n\n\n\n\nfarmerjonesavbg@gmail.com - please email only to pre-register for this month
X-ALT-DESC;FMTTYPE=text/html:<span style="color: rgb(0\, 0\, 0)\; font-family: Poppins\, sans-serif\; font-size: 25px\;">Water Is Wonderful &ndash\; learn about VID &ndash\; how do we use water? How can we save water?&nbsp\; How can we have fun with water?</span>\n<div class="elementor-element elementor-element-1fc7ede elementor-icon-list--layout-traditional elementor-list-item-link-full_width elementor-widget elementor-widget-icon-list" data-element_type="widget" data-id="1fc7ede" data-widget_type="icon-list.default" style="box-sizing: border-box\; --flex-direction: initial\; --flex-wrap: initial\; --justify-content: initial\; --align-items: initial\; --align-content: initial\; --gap: initial\; --flex-basis: initial\; --flex-grow: initial\; --flex-shrink: initial\; --order: initial\; --align-self: initial\; flex-basis: var(--flex-basis)\; flex-grow: var(--flex-grow)\; flex-shrink: var(--flex-shrink)\; order: var(--order)\; align-self: var(--align-self)\; flex-direction: var(--flex-direction)\; flex-wrap: var(--flex-wrap)\; justify-content: var(--justify-content)\; align-items: var(--align-items)\; align-content: var(--align-content)\; gap: var(--gap)\; position: relative\; --widgets-spacing: 20px 20px\; --swiper-theme-color: #000\; --swiper-navigation-size: 44px\; --swiper-pagination-bullet-size: 6px\; --swiper-pagination-bullet-horizontal-gap: 6px\; width: 550px\; margin-bottom: 20px\; margin-block-end: 20px\; --e-icon-list-icon-size: 0px\; --icon-vertical-offset: 0px\; color: rgb(59\, 61\, 66)\; font-family: Poppins\, sans-serif\; font-size: 14px\;">\n<div class="elementor-widget-container" style="box-sizing: border-box\; transition: background .3s\,border .3s\,border-radius .3s\,box-shadow .3s\,transform var(--e-transform-transition-duration\,.4s)\;">\n<ul class="elementor-icon-list-items" style="box-sizing: border-box\; margin: 0px\; padding-right: 0px\; padding-left: 0px\; list-style: none\;">\n	<li class="elementor-icon-list-item" style="box-sizing: border-box\; margin: 0px\; padding: 0px\; position: relative\; display: flex\; font-size: inherit\; align-items: var(--icon-vertical-align\,center)\;">&nbsp\;</li>\n	<li class="elementor-icon-list-item" style="box-sizing: border-box\; margin: 0px\; padding: 0px\; position: relative\; display: flex\; font-size: inherit\; align-items: var(--icon-vertical-align\,center)\;"><span style="font-size:16px\;"><span style="font-family:arial\;"><span align-self:="" class="elementor-icon-list-text" color="" display:="" font-size:="" font-weight:="" open="" padding-inline-start:="" style="box-sizing: border-box\;" transition:="">The Gardens are located at 1270 Vale Terrace Drive in Vista\, at the top of the hill inside Brengle Terrace Park.</span></span></span></li>\n</ul>\n</div>\n</div>\n\n<div class="elementor-element elementor-element-b4ff0cd elementor-icon-list--layout-traditional elementor-list-item-link-full_width elementor-widget elementor-widget-icon-list" data-element_type="widget" data-id="b4ff0cd" data-widget_type="icon-list.default" style="box-sizing: border-box\; --flex-direction: initial\; --flex-wrap: initial\; --justify-content: initial\; --align-items: initial\; --align-content: initial\; --gap: initial\; --flex-basis: initial\; --flex-grow: initial\; --flex-shrink: initial\; --order: initial\; --align-self: initial\; flex-basis: var(--flex-basis)\; flex-grow: var(--flex-grow)\; flex-shrink: var(--flex-shrink)\; order: var(--order)\; align-self: var(--align-self)\; flex-direction: var(--flex-direction)\; flex-wrap: var(--flex-wrap)\; justify-content: var(--justify-content)\; align-items: var(--align-items)\; align-content: var(--align-content)\; gap: var(--gap)\; position: relative\; --widgets-spacing: 20px 20px\; --swiper-theme-color: #000\; --swiper-navigation-size: 44px\; --swiper-pagination-bullet-size: 6px\; --swiper-pagination-bullet-horizontal-gap: 6px\; width: 550px\; margin-bottom: 20px\; margin-block-end: 20px\; --e-icon-list-icon-size: 0px\; --icon-vertical-offset: 0px\; color: rgb(59\, 61\, 66)\; font-family: Poppins\, sans-serif\; font-size: 14px\;">\n<div class="elementor-widget-container" style="box-sizing: border-box\; transition: background .3s\,border .3s\,border-radius .3s\,box-shadow .3s\,transform var(--e-transform-transition-duration\,.4s)\;"><span style="font-size:16px\;"><span style="font-family:arial\;"><span align-self:="" class="elementor-icon-list-text elementor-icon-list-item" color="" display:="" font-size:="" font-weight:="" open="" padding-inline-start:="" style="margin: 0px\; padding: 0px\; position: relative\; display: flex\; align-items: var(--icon-vertical-align\,center)\; box-sizing: border-box\;" transition:=""><a href="mailto:farmerjonesavbg@gmail.com" style="box-sizing: border-box\; background-color: transparent\; text-decoration-line: none\; transition: 0.3s\; color: var( --e-global-color-primary )\; box-shadow: none\; display: inline\; font-size: inherit\; align-items: var(--icon-vertical-align\,center)\; width: 100%\;">farmerjonesavbg@gmail.com -&nbsp\;please email only to pre-register for this month</a></span></span></span></div>\n</div>\n
LOCATION:Alta Vista Botanical Gardens 1270 Vale Terrace Drive
UID:e.493.29144
SEQUENCE:3
DTSTAMP:20260422T172452Z
URL:https://business.vistachamber.org/events/details/kids-in-the-garden-class-29144
END:VEVENT

END:VCALENDAR
