BEGIN:VCALENDAR
VERSION:2.0
PRODID:-//ChamberMaster//Event Calendar 2.0//EN
METHOD:PUBLISH
X-PUBLISHED-TTL:P3D
REFRESH-INTERVAL:P3D
CALSCALE:GREGORIAN
BEGIN:VEVENT
DTSTART;VALUE=DATE:20190902
DTEND;VALUE=DATE:20190903
TRANSP:TRANSPARENT
X-MICROSOFT-CDO-ALLDAYEVENT:TRUE
SUMMARY:LABOR DAY - OFFICE CLOSED
DESCRIPTION:THE VISTA CHAMBER WILL OBSERVE LABOR DAY BY CLOSING AND RESTING FROM ALL LABOR. SEE YOU ON TUESDAY!
X-ALT-DESC;FMTTYPE=text/html:THE VISTA CHAMBER WILL OBSERVE LABOR DAY BY CLOSING AND RESTING FROM ALL LABOR. SEE YOU ON TUESDAY!
LOCATION:
UID:e.493.19325
SEQUENCE:3
DTSTAMP:20260420T054659Z
URL:https://business.vistachamber.org/events/details/labor-day-office-closed-19325
END:VEVENT

END:VCALENDAR
