BEGIN:VCALENDAR
VERSION:2.0
PRODID:-//ChamberMaster//Event Calendar 2.0//EN
METHOD:PUBLISH
X-PUBLISHED-TTL:P3D
REFRESH-INTERVAL:P3D
CALSCALE:GREGORIAN
BEGIN:VEVENT
DTSTART:20251216T200000Z
DTEND:20251216T210000Z
X-MICROSOFT-CDO-ALLDAYEVENT:FALSE
SUMMARY:Lunch & Learn: The Role of AI in Human Resources
DESCRIPTION:Artificial Intelligence is rapidly transforming every corner of the workplace   and Human Resources is no exception. From streamlining recruitment to enhancing employee engagement and performance management\, AI is reshaping how organizations attract\, retain\, and develop their people.\n\nIn this interactive workshop\, Scott Colgan from Paychex will explore how HR professionals and business leaders can harness AI responsibly and effectively. We'll discuss emerging tools\, best practices\, and real-world examples that demonstrate how AI can support human decision-making rather than replace it.
X-ALT-DESC;FMTTYPE=text/html:<p data-end="538" data-start="252"><span style="font-size:16px\;"><span style="font-family:arial\;">Artificial Intelligence is rapidly transforming every corner of the workplace &mdash\; and Human Resources is no exception. From streamlining recruitment to enhancing employee engagement and performance management\, AI is reshaping how organizations attract\, retain\, and develop their people.</span></span></p>\n\n<p data-end="987" data-start="540"><span style="font-size:16px\;"><span style="font-family:arial\;">In this interactive workshop\, Scott Colgan from Paychex will&nbsp\;explore <strong data-end="672" data-start="584">how HR professionals and business leaders can harness AI responsibly and effectively</strong>. We&rsquo\;ll discuss emerging tools\, best practices\, and real-world examples that demonstrate how AI can support human decision-making rather than replace it.</span></span></p>\n
LOCATION:The Film Hub 170 Eucalyptus Ave. Vista\, CA 92084
UID:e.493.29612
SEQUENCE:3
DTSTAMP:20260422T154933Z
URL:https://business.vistachamber.org/events/details/lunch-learn-the-role-of-ai-in-human-resources-29612
END:VEVENT

END:VCALENDAR
