BEGIN:VCALENDAR
VERSION:2.0
PRODID:-//ChamberMaster//Event Calendar 2.0//EN
METHOD:PUBLISH
X-PUBLISHED-TTL:P3D
REFRESH-INTERVAL:P3D
CALSCALE:GREGORIAN
BEGIN:VEVENT
DTSTART:20240723T010000Z
DTEND:20240723T040000Z
X-MICROSOFT-CDO-ALLDAYEVENT:FALSE
SUMMARY:Magic & Misadventure
DESCRIPTION:Come hang out and enjoy craft cocktails as our stroll style magician entertains our guests with up close face to face magic and mind reading! A fun night for everyone of all ages!
X-ALT-DESC;FMTTYPE=text/html:Come hang out and enjoy craft cocktails as our stroll style magician entertains our guests with up close face to face magic and mind reading! A fun night for everyone of all ages!
LOCATION:Misadventure & Co
UID:e.493.28636
SEQUENCE:3
DTSTAMP:20260423T080554Z
URL:https://business.vistachamber.org/events/details/magic-misadventure-28636
END:VEVENT

END:VCALENDAR
