BEGIN:VCALENDAR
VERSION:2.0
PRODID:-//ChamberMaster//Event Calendar 2.0//EN
METHOD:PUBLISH
X-PUBLISHED-TTL:P3D
REFRESH-INTERVAL:P3D
CALSCALE:GREGORIAN
BEGIN:VEVENT
DTSTART:20250925T190000Z
DTEND:20250925T200000Z
X-MICROSOFT-CDO-ALLDAYEVENT:FALSE
SUMMARY:Marketing 101: The Big Picture
DESCRIPTION:We're restarting our 6-part marketing workshop series\, so if you missed the first round\, now's your chance to jump in from the very beginning. Learn marketing with Jeff Fox from Star Fox Media!\n\n\n\nKick off your marketing journey with the foundation every brand and business needs. The first is a 6-part series!
X-ALT-DESC;FMTTYPE=text/html:<span style="color: rgb(36\, 36\, 36)\; font-family: &quot\;Segoe UI&quot\;\, &quot\;Segoe UI Web (West European)&quot\;\, -apple-system\, BlinkMacSystemFont\, Roboto\, &quot\;Helvetica Neue&quot\;\, sans-serif\; font-size: 15px\;">We&rsquo\;re restarting our&nbsp\;</span><span class="x_gmail-s1" style="border: 0px\; font-variant-numeric: inherit\; font-variant-east-asian: inherit\; font-variant-alternates: inherit\; font-variant-position: inherit\; font-variant-emoji: inherit\; font-stretch: inherit\; font-size: 15px\; line-height: inherit\; font-family: &quot\;Segoe UI&quot\;\, &quot\;Segoe UI Web (West European)&quot\;\, -apple-system\, BlinkMacSystemFont\, Roboto\, &quot\;Helvetica Neue&quot\;\, sans-serif\; font-optical-sizing: inherit\; font-size-adjust: inherit\; font-kerning: inherit\; font-feature-settings: inherit\; font-variation-settings: inherit\; margin: 0px\; padding: 0px\; vertical-align: baseline\; color: rgb(36\, 36\, 36)\;"><b>6-part marketing workshop series</b></span><span style="color: rgb(36\, 36\, 36)\; font-family: &quot\;Segoe UI&quot\;\, &quot\;Segoe UI Web (West European)&quot\;\, -apple-system\, BlinkMacSystemFont\, Roboto\, &quot\;Helvetica Neue&quot\;\, sans-serif\; font-size: 15px\;">\, so if you missed the first round\, now&rsquo\;s your chance to jump in from the very beginning. Learn marketing with Jeff Fox from Star Fox Media!<br />\n<br />\nKick off your marketing journey with the foundation every brand and business needs. The first is a 6-part series!</span>
LOCATION:The Film Hub 170 Eucalyptus Ave. Vista\, CA 92084
UID:e.493.29567
SEQUENCE:3
DTSTAMP:20260422T041236Z
URL:https://business.vistachamber.org/events/details/marketing-101-the-big-picture-29567
END:VEVENT

END:VCALENDAR
