BEGIN:VCALENDAR
VERSION:2.0
PRODID:-//ChamberMaster//Event Calendar 2.0//EN
METHOD:PUBLISH
X-PUBLISHED-TTL:P3D
REFRESH-INTERVAL:P3D
CALSCALE:GREGORIAN
BEGIN:VEVENT
DTSTART:20190411T170000Z
DTEND:20190411T230000Z
X-MICROSOFT-CDO-ALLDAYEVENT:FALSE
SUMMARY:MexPort Expo
DESCRIPTION:The Premier Cross Border Business Expo Promoting Trade and Business Opportunities in the Cali-Baja Region.
X-ALT-DESC;FMTTYPE=text/html:The Premier Cross Border Business Expo Promoting Trade and Business Opportunities in the Cali-Baja Region.&nbsp\;
LOCATION:8500 Kern Street\, San Diego\, CA 92154
UID:e.493.18861
SEQUENCE:3
DTSTAMP:20260422T134027Z
URL:https://business.vistachamber.org/events/details/mexport-expo-18861
END:VEVENT

END:VCALENDAR
