BEGIN:VCALENDAR
VERSION:2.0
PRODID:-//ChamberMaster//Event Calendar 2.0//EN
METHOD:PUBLISH
X-PUBLISHED-TTL:P3D
REFRESH-INTERVAL:P3D
CALSCALE:GREGORIAN
BEGIN:VEVENT
DTSTART:20211210T030000Z
DTEND:20211210T060000Z
X-MICROSOFT-CDO-ALLDAYEVENT:FALSE
SUMMARY:Miracle on 34th Street: A Musical Radio Play
DESCRIPTION:You will want to bring the entire family to enjoy this holiday classic\, performed in the style of a live 1940s era radio broadcast. When a department store Santa claims he's the real Kris Kringle\, his case gets taken all the way to the Supreme Court\, and a little girl's belief makes the difference in the 'miracle.' With live Foley effects and a score of holiday carols\, "Miracle on 34th Street" is a beloved musical that will melt even the most cynical of hearts.
X-ALT-DESC;FMTTYPE=text/html:<h3 style="box-sizing: border-box\; color: rgb(17\, 11\, 48)\; font-size: 28px\; font-weight: 600\; font-family: &quot\;Open Sans&quot\;\, sans-serif\; text-align: center\;">You will want to bring the entire family to enjoy this holiday classic\, performed in the style of a live 1940s era radio broadcast. When a department store Santa claims he&rsquo\;s the real Kris Kringle\, his case gets taken all the way to the Supreme Court\, and a little girl&rsquo\;s belief makes the difference in the &lsquo\;miracle.&rsquo\; With live Foley effects and a score of holiday carols\, &quot\;Miracle on 34th Street&quot\; is a beloved musical that will melt even the most cynical of hearts.</h3>\n
LOCATION:AVO Playhouse 303 Main Street
UID:e.493.21885
SEQUENCE:3
DTSTAMP:20260423T133805Z
URL:https://business.vistachamber.org/events/details/miracle-on-34th-street-a-musical-radio-play-21885
END:VEVENT

END:VCALENDAR
