BEGIN:VCALENDAR
VERSION:2.0
PRODID:-//ChamberMaster//Event Calendar 2.0//EN
METHOD:PUBLISH
X-PUBLISHED-TTL:P3D
REFRESH-INTERVAL:P3D
CALSCALE:GREGORIAN
BEGIN:VEVENT
DTSTART:20250722T030000Z
DTEND:20250722T050000Z
X-MICROSOFT-CDO-ALLDAYEVENT:FALSE
SUMMARY:Misadventure & Co Movie Monday Night
DESCRIPTION:Step into a world of classic cinema and join us for an unforgettable night under the stars. We're bringing back the golden age of Hollywood with our Vintage Movie Night series. \n\n\n\nVote for the classic movie of your choice via our Instagram stories.
X-ALT-DESC;FMTTYPE=text/html:Step into a world of classic cinema and join us for an unforgettable night under the stars. We&#39\;re bringing back the golden age of Hollywood with our Vintage Movie Night series.&nbsp\;<br />\n<br />\nVote for the classic movie of your choice via our Instagram stories.
LOCATION:
UID:e.493.29462
SEQUENCE:3
DTSTAMP:20260422T191210Z
URL:https://business.vistachamber.org/events/details/misadventure-co-movie-monday-night-07-21-2025-29462
END:VEVENT

END:VCALENDAR
