BEGIN:VCALENDAR
VERSION:2.0
PRODID:-//ChamberMaster//Event Calendar 2.0//EN
METHOD:PUBLISH
X-PUBLISHED-TTL:P3D
REFRESH-INTERVAL:P3D
CALSCALE:GREGORIAN
BEGIN:VEVENT
DTSTART:20260123T020000Z
DTEND:20260123T070000Z
X-MICROSOFT-CDO-ALLDAYEVENT:FALSE
SUMMARY:Misadventure & Co Vinyl Record Night
DESCRIPTION:Come and enjoy craft cocktails and music curated by you and our fellow patrons!\n\n\n\nOur Vinyl Record Nights welcome all to play our records on site or bring records to share\, trade\, or sell!
X-ALT-DESC;FMTTYPE=text/html:Come and enjoy craft cocktails and music curated by you and our fellow patrons!<br />\n<br />\nOur Vinyl Record Nights welcome all to play our records on site or bring records to share\, trade\, or sell!&nbsp\;
LOCATION:
UID:e.493.31782
SEQUENCE:3
DTSTAMP:20260422T172328Z
URL:https://business.vistachamber.org/events/details/misadventure-co-vinyl-record-night-31782
END:VEVENT

END:VCALENDAR
