BEGIN:VCALENDAR
VERSION:2.0
PRODID:-//ChamberMaster//Event Calendar 2.0//EN
METHOD:PUBLISH
X-PUBLISHED-TTL:P3D
REFRESH-INTERVAL:P3D
CALSCALE:GREGORIAN
BEGIN:VEVENT
DTSTART:20241017T010000Z
DTEND:20241017T040000Z
X-MICROSOFT-CDO-ALLDAYEVENT:FALSE
SUMMARY:MOCKTAIL Class and Food Pairing
DESCRIPTION:A NON-ALCOHOLIC Event! Join us as we walk you through how to make 3 of our very own Misadventure house crafted MOCKTAILS hosted by our seasoned bartenders. Each MOCKTAIL will be paired with a 3 course curated food tasting menu selected by our Master Chef Kyle.
X-ALT-DESC;FMTTYPE=text/html:A NON-ALCOHOLIC Event! Join us as we walk you through how to make 3 of our very own Misadventure house crafted MOCKTAILS hosted by our seasoned bartenders. Each MOCKTAIL will be paired with a 3 course curated food tasting menu selected by our Master Chef Kyle.
LOCATION:Misadventure & Co 2420 Grand Ave. #C Vista\, CA 92081
UID:e.493.28938
SEQUENCE:3
DTSTAMP:20260423T021756Z
URL:https://business.vistachamber.org/events/details/mocktail-class-and-food-pairing-10-16-2024-28938
END:VEVENT

END:VCALENDAR
