BEGIN:VCALENDAR
VERSION:2.0
PRODID:-//ChamberMaster//Event Calendar 2.0//EN
METHOD:PUBLISH
X-PUBLISHED-TTL:P3D
REFRESH-INTERVAL:P3D
CALSCALE:GREGORIAN
BEGIN:VEVENT
DTSTART:20200301T220000Z
DTEND:20200302T020000Z
X-MICROSOFT-CDO-ALLDAYEVENT:FALSE
SUMMARY:Moonlight Angels Wine & Paint
DESCRIPTION:Wine & Paint at 2Plank Vineyards $45 price includes: wine\, water\, appetizers\, desserts\, painting supplies & instruction. Gift Card Tree Raffle: $5 per ticket.
X-ALT-DESC;FMTTYPE=text/html:Wine &amp\; Paint at 2Plank Vineyards $45 price includes: wine\, water\, appetizers\, desserts\, painting supplies &amp\; instruction. Gift Card Tree Raffle: $5 per ticket.&nbsp\;
LOCATION:2 Plank Vineyards 2379 La Mirada Drive Vista
UID:e.493.19648
SEQUENCE:3
DTSTAMP:20260425T111605Z
URL:https://business.vistachamber.org/events/details/moonlight-angels-wine-paint-19648
END:VEVENT

END:VCALENDAR
