BEGIN:VCALENDAR
VERSION:2.0
PRODID:-//ChamberMaster//Event Calendar 2.0//EN
METHOD:PUBLISH
X-PUBLISHED-TTL:P3D
REFRESH-INTERVAL:P3D
CALSCALE:GREGORIAN
BEGIN:VEVENT
DTSTART:20210710T023000Z
DTEND:20210710T053000Z
X-MICROSOFT-CDO-ALLDAYEVENT:FALSE
SUMMARY:Moonlight's 40th Birthday Party
DESCRIPTION:Come join us in celebration at Moonlight's 40th Anniversary Birthday Bash featuring Yachtly Crew in concert!
X-ALT-DESC;FMTTYPE=text/html:Come join us in celebration at Moonlight&#39\;s 40th Anniversary Birthday Bash featuring Yachtly Crew in concert!
LOCATION:Moonlight Amphitheatre 1250 Vale Terrace Drive Vista\, CA 92084
UID:e.493.20645
SEQUENCE:3
DTSTAMP:20260425T154152Z
URL:https://business.vistachamber.org/events/details/moonlight-s-40th-birthday-party-20645
END:VEVENT

END:VCALENDAR
