BEGIN:VCALENDAR
VERSION:2.0
PRODID:-//ChamberMaster//Event Calendar 2.0//EN
METHOD:PUBLISH
X-PUBLISHED-TTL:P3D
REFRESH-INTERVAL:P3D
CALSCALE:GREGORIAN
BEGIN:VEVENT
DTSTART:20251026T160000Z
DTEND:20251026T210000Z
X-MICROSOFT-CDO-ALLDAYEVENT:FALSE
SUMMARY:Muscles on Main Trunk or Treat Car Show
DESCRIPTION:Halloween Muscles on Main Street   \n\nGet ready for a spooky & spectacular day at Vista Village! Join us on Sunday\, October 26 from 9AM 2PM for a Halloween-themed car show packed with fun:\n\n\n\n  Family-friendly DJ & entertainment\n\n  Trick-or-treating from decorated trunks\n\n  Costumes encouraged!\n\n\n\nIt's going to be a frightfully fun day for the whole family. We can't wait to see you there!\n\n\n\n  Vista Village\n\n  October 26 | 9AM 2PM
X-ALT-DESC;FMTTYPE=text/html:<span style="color: rgb(0\, 0\, 0)\; font-family: -apple-system\, BlinkMacSystemFont\, &quot\;Segoe UI&quot\;\, Roboto\, Helvetica\, Arial\, sans-serif\; font-size: 14px\;">&#127875\;&#128663\; Halloween Muscles on Main Street &#128123\;&#10024\;</span><br style="color: rgb(0\, 0\, 0)\; font-family: -apple-system\, BlinkMacSystemFont\, &quot\;Segoe UI&quot\;\, Roboto\, Helvetica\, Arial\, sans-serif\; font-size: 14px\;" />\n<span style="color: rgb(0\, 0\, 0)\; font-family: -apple-system\, BlinkMacSystemFont\, &quot\;Segoe UI&quot\;\, Roboto\, Helvetica\, Arial\, sans-serif\; font-size: 14px\;">Get ready for a spooky &amp\; spectacular day at Vista Village! Join us on Sunday\, October 26 from 9AM&ndash\;2PM for a Halloween-themed car show packed with fun:</span><br style="color: rgb(0\, 0\, 0)\; font-family: -apple-system\, BlinkMacSystemFont\, &quot\;Segoe UI&quot\;\, Roboto\, Helvetica\, Arial\, sans-serif\; font-size: 14px\;" />\n<br style="color: rgb(0\, 0\, 0)\; font-family: -apple-system\, BlinkMacSystemFont\, &quot\;Segoe UI&quot\;\, Roboto\, Helvetica\, Arial\, sans-serif\; font-size: 14px\;" />\n<span style="color: rgb(0\, 0\, 0)\; font-family: -apple-system\, BlinkMacSystemFont\, &quot\;Segoe UI&quot\;\, Roboto\, Helvetica\, Arial\, sans-serif\; font-size: 14px\;">&#129705\; Family-friendly DJ &amp\; entertainment</span><br style="color: rgb(0\, 0\, 0)\; font-family: -apple-system\, BlinkMacSystemFont\, &quot\;Segoe UI&quot\;\, Roboto\, Helvetica\, Arial\, sans-serif\; font-size: 14px\;" />\n<span style="color: rgb(0\, 0\, 0)\; font-family: -apple-system\, BlinkMacSystemFont\, &quot\;Segoe UI&quot\;\, Roboto\, Helvetica\, Arial\, sans-serif\; font-size: 14px\;">&#127852\; Trick-or-treating from decorated trunks</span><br style="color: rgb(0\, 0\, 0)\; font-family: -apple-system\, BlinkMacSystemFont\, &quot\;Segoe UI&quot\;\, Roboto\, Helvetica\, Arial\, sans-serif\; font-size: 14px\;" />\n<span style="color: rgb(0\, 0\, 0)\; font-family: -apple-system\, BlinkMacSystemFont\, &quot\;Segoe UI&quot\;\, Roboto\, Helvetica\, Arial\, sans-serif\; font-size: 14px\;">&#128123\; Costumes encouraged!</span><br style="color: rgb(0\, 0\, 0)\; font-family: -apple-system\, BlinkMacSystemFont\, &quot\;Segoe UI&quot\;\, Roboto\, Helvetica\, Arial\, sans-serif\; font-size: 14px\;" />\n<br style="color: rgb(0\, 0\, 0)\; font-family: -apple-system\, BlinkMacSystemFont\, &quot\;Segoe UI&quot\;\, Roboto\, Helvetica\, Arial\, sans-serif\; font-size: 14px\;" />\n<span style="color: rgb(0\, 0\, 0)\; font-family: -apple-system\, BlinkMacSystemFont\, &quot\;Segoe UI&quot\;\, Roboto\, Helvetica\, Arial\, sans-serif\; font-size: 14px\;">It&rsquo\;s going to be a frightfully fun day for the whole family. We can&rsquo\;t wait to see you there!</span><br style="color: rgb(0\, 0\, 0)\; font-family: -apple-system\, BlinkMacSystemFont\, &quot\;Segoe UI&quot\;\, Roboto\, Helvetica\, Arial\, sans-serif\; font-size: 14px\;" />\n<br style="color: rgb(0\, 0\, 0)\; font-family: -apple-system\, BlinkMacSystemFont\, &quot\;Segoe UI&quot\;\, Roboto\, Helvetica\, Arial\, sans-serif\; font-size: 14px\;" />\n<span style="color: rgb(0\, 0\, 0)\; font-family: -apple-system\, BlinkMacSystemFont\, &quot\;Segoe UI&quot\;\, Roboto\, Helvetica\, Arial\, sans-serif\; font-size: 14px\;">&#128205\; Vista Village</span><br style="color: rgb(0\, 0\, 0)\; font-family: -apple-system\, BlinkMacSystemFont\, &quot\;Segoe UI&quot\;\, Roboto\, Helvetica\, Arial\, sans-serif\; font-size: 14px\;" />\n<span style="color: rgb(0\, 0\, 0)\; font-family: -apple-system\, BlinkMacSystemFont\, &quot\;Segoe UI&quot\;\, Roboto\, Helvetica\, Arial\, sans-serif\; font-size: 14px\;">&#128197\; October 26 | 9AM&ndash\;2PM</span>
LOCATION:Visita Village Shopping Center 25 Main Street
UID:e.493.29577
SEQUENCE:3
DTSTAMP:20260422T114650Z
URL:https://business.vistachamber.org/events/details/muscles-on-main-trunk-or-treat-car-show-29577
END:VEVENT

END:VCALENDAR
