BEGIN:VCALENDAR
VERSION:2.0
PRODID:-//ChamberMaster//Event Calendar 2.0//EN
METHOD:PUBLISH
X-PUBLISHED-TTL:P3D
REFRESH-INTERVAL:P3D
CALSCALE:GREGORIAN
BEGIN:VEVENT
DTSTART:20260425T170000Z
DTEND:20260425T210000Z
X-MICROSOFT-CDO-ALLDAYEVENT:FALSE
SUMMARY:National Drug Takeback Day
DESCRIPTION:Please join us this Saturday\, April 25\, from 10am - 2pm as we partner with our local law enforcement and local Drug Enforcement Administration for National Drug Takeback Day! This community event provides a safe\, convenient\, and responsible way to dispose of unused or expired prescription drugs\, while also helping to raise awareness about the potential for medication misuse and abuse. If you or someone you know is looking to dispose of used and or expired medication please drop them off at the hospital roundabout this weekend!
X-ALT-DESC;FMTTYPE=text/html:Please join us this Saturday\, April 25\, from 10am - 2pm as we partner with our local law enforcement and local Drug Enforcement Administration for National Drug Takeback Day! This community event provides a safe\, convenient\, and responsible way to dispose of unused or expired prescription drugs\, while also helping to raise awareness about the potential for medication misuse and abuse. If you or someone you know is looking to dispose of used and or expired medication please drop them off at the hospital roundabout this weekend!
LOCATION:4002 Vista Way
UID:e.493.33032
SEQUENCE:3
DTSTAMP:20260424T084800Z
URL:https://business.vistachamber.org/events/details/national-drug-takeback-day-33032
END:VEVENT

END:VCALENDAR
