BEGIN:VCALENDAR
VERSION:2.0
PRODID:-//ChamberMaster//Event Calendar 2.0//EN
METHOD:PUBLISH
X-PUBLISHED-TTL:P3D
REFRESH-INTERVAL:P3D
CALSCALE:GREGORIAN
BEGIN:VEVENT
DTSTART:20190320T180000Z
DTEND:20190320T210000Z
X-MICROSOFT-CDO-ALLDAYEVENT:FALSE
SUMMARY:National SBDC Day
DESCRIPTION:America's SBDC Day celebrating Small Business Developements Centers and the impact their services have on the success of small business\, our nations' dreamers\, innovators and doers. Meet SBDC Business Advisors. Get tips on how to start or grow your business. Meet SBDC clients. Tour the SBDC. Win prizes. Enjoy lunch. Mix and mingle. Spread the word #SBDCDay Campaign
X-ALT-DESC;FMTTYPE=text/html:America&#39\;s SBDC Day celebrating Small Business Developements Centers and the impact their services have on the success of small business\, our nations&#39\; dreamers\, innovators and doers. Meet SBDC Business Advisors. Get tips on how to start or grow your business. Meet SBDC clients. Tour the SBDC. Win prizes. Enjoy lunch. Mix and mingle. Spread the word #SBDCDay Campaign
LOCATION:North County SBDC 2075 Las Palmas Drive Carlsbad
UID:e.493.18843
SEQUENCE:3
DTSTAMP:20260425T031005Z
URL:https://business.vistachamber.org/events/details/national-sbdc-day-18843
END:VEVENT

END:VCALENDAR
