BEGIN:VCALENDAR
VERSION:2.0
PRODID:-//ChamberMaster//Event Calendar 2.0//EN
METHOD:PUBLISH
X-PUBLISHED-TTL:P3D
REFRESH-INTERVAL:P3D
CALSCALE:GREGORIAN
BEGIN:VEVENT
DTSTART:20251121T190000Z
DTEND:20251121T220000Z
X-MICROSOFT-CDO-ALLDAYEVENT:FALSE
SUMMARY:New Haven Annual Holiday Bazaar
DESCRIPTION:Celebrate and support our student-run programs by purchasing delicious goodies from our Catering4Youth students. AND come early to buy our custom cutting boards\, kitchenwares and pens crafted by students from Woodcrafts\, Etc. All purchases benefit New Haven's life-changing programs.
X-ALT-DESC;FMTTYPE=text/html:<span style="color: rgb(0\, 0\, 0)\; font-family: -apple-system\, BlinkMacSystemFont\, &quot\;Segoe UI&quot\;\, Roboto\, Helvetica\, Arial\, sans-serif\; font-size: 14px\;">Celebrate and support our student-run programs by purchasing delicious goodies from our Catering4Youth students. AND come early to buy our custom cutting boards\, kitchenwares and pens crafted by students from Woodcrafts\, Etc. All purchases benefit New Haven&#39\;s life-changing programs.</span>
LOCATION:New Haven Youth & Family Services 1126 N Melrose Dr.
UID:e.493.29626
SEQUENCE:3
DTSTAMP:20260422T133233Z
URL:https://business.vistachamber.org/events/details/new-haven-annual-holiday-bazaar-29626
END:VEVENT

END:VCALENDAR
