BEGIN:VCALENDAR
VERSION:2.0
PRODID:-//ChamberMaster//Event Calendar 2.0//EN
METHOD:PUBLISH
X-PUBLISHED-TTL:P3D
REFRESH-INTERVAL:P3D
CALSCALE:GREGORIAN
BEGIN:VEVENT
DTSTART:20181108T190000Z
DTEND:20181108T220000Z
X-MICROSOFT-CDO-ALLDAYEVENT:FALSE
SUMMARY:New Haven Holiday Bazaar
DESCRIPTION:This Holiday Bazaar Features the work of New Haven's Woodcrafts Etc. & Catering 4Youth students.  Woodcraft gifts and signature collection of candies will be available for purchase. Offering light refreshments\, prepared & served by our Catering 4Youth students. This is an "Open House" style event so stop by anytime between 11am-2pm and say hello!  If you are unable to attend but would like to do some holiday shopping\, please visit the website http://www.newhavenwoodcrafts.com
X-ALT-DESC;FMTTYPE=text/html:This Holiday Bazaar Features the work of New Haven&#39\;s Woodcrafts Etc. &amp\; Catering 4Youth students.&nbsp\; Woodcraft gifts and signature collection of candies will be available for purchase. Offering light refreshments\, prepared &amp\; served by our Catering 4Youth students. This is an &quot\;Open House&quot\; style event so stop by anytime between 11am-2pm and say hello!&nbsp\; If you are unable to attend but would like to do some holiday shopping\, please visit the website&nbsp\;<a href="http://www.newhavenwoodcrafts.com">http://www.newhavenwoodcrafts.com</a>
LOCATION:1126 N. Melrose Drive\, Vista
UID:e.493.18727
SEQUENCE:3
DTSTAMP:20260424T055433Z
URL:https://business.vistachamber.org/events/details/new-haven-holiday-bazaar-18727
END:VEVENT

END:VCALENDAR
