BEGIN:VCALENDAR
VERSION:2.0
PRODID:-//ChamberMaster//Event Calendar 2.0//EN
METHOD:PUBLISH
X-PUBLISHED-TTL:P3D
REFRESH-INTERVAL:P3D
CALSCALE:GREGORIAN
BEGIN:VEVENT
DTSTART:20190905T220000Z
DTEND:20190906T000000Z
X-MICROSOFT-CDO-ALLDAYEVENT:FALSE
SUMMARY:NFL Tailgate party
DESCRIPTION:You're invited to a NFL (Nachos! Football! Libations!) Tailgate party at Alta Vista Senior Living! Tailgate games? We've got 'em. Wear  your team gear for an opportunity to win prizes!\n\nRegular season football begins on 09/05/19 and we are celebrating the NFL kickoff game with some tailgate merriment. It's going to be epic.\n\nWEAR YOUR FAVORITE team jersey\, or hat\, or foam finger\, or other spirit wear for extra chances to win fun prizes. Interesting tailgate games and challenges. Delicious food and beverages. Tours will be offered. Opportunities to network abound! \n\nNot a Chicago Bears nor Green Bay Packers fan\, that's ok ..there will be a little something for everyone. Come see!
X-ALT-DESC;FMTTYPE=text/html:You&#39\;re invited to a NFL (Nachos! Football! Libations!) Tailgate party at Alta Vista Senior Living! Tailgate games? We&#39\;ve got &#39\;em. Wear&nbsp\; your team gear for an opportunity to win prizes!<br />\n<span style="background:white\;"><span style="color:#222222\;"><span style="font-family:arial\,sans-serif\;">Regular season football begins on 09/05/19 and we are celebrating the NFL kickoff game with some tailgate merriment. It&rsquo\;s going to be epic.</span></span></span><br />\n<span style="background:white\;"><span style="color:#222222\;"><span style="font-family:arial\,sans-serif\;">WEAR YOUR FAVORITE team jersey\, or hat\, or foam finger\, or other spirit wear for extra chances to win fun prizes. Interesting tailgate games and challenges. Delicious food and beverages. Tours will be offered. Opportunities to network abound! </span></span></span><br />\n<span style="background:white\;"><span style="color:#222222\;"><span style="font-family:arial\,sans-serif\;">Not a Chicago Bears nor Green Bay Packers fan\, that&rsquo\;s ok&hellip\;..there will be a little something for everyone. Come see!</span></span></span><br />\n&nbsp\;
LOCATION:Alta Vista Senior Living 2041 W. Vista Way\, Vista
UID:e.493.19306
SEQUENCE:3
DTSTAMP:20260420T075453Z
URL:https://business.vistachamber.org/events/details/nfl-tailgate-party-19306
END:VEVENT

END:VCALENDAR
