BEGIN:VCALENDAR
VERSION:2.0
PRODID:-//ChamberMaster//Event Calendar 2.0//EN
METHOD:PUBLISH
X-PUBLISHED-TTL:P3D
REFRESH-INTERVAL:P3D
CALSCALE:GREGORIAN
BEGIN:VEVENT
DTSTART:20251101T190000Z
DTEND:20251101T230000Z
X-MICROSOFT-CDO-ALLDAYEVENT:FALSE
SUMMARY:Novemberfest
DESCRIPTION:Join us for our 11th annual craft beer\, mead and wine festival. Enjoy a day of live music\, tastings\, food\, craft booths\, games\, and raffles. 100% of all proceeds support the Alta Vista Botanical Gardens and the Amigos De Vista Lions Club.\n\nThe tastings will feature a wide variety of craft beers\, wines\, and mead from our local experts in the brewing community.\n\nFeatured Band: https://nightowlsband.com/\n\nYour ticket purchase helps keep our Botanical Gardens alive and growing\, providing vital funds to pay utilities\, ensure upkeep\, and foster the expansion of the gardens for generations to come\, as well as\, supporting Amigos de Vista Lions Club charity donations.\n\nMust be 21+ to attend. No children or dogs are allowed at this event.
X-ALT-DESC;FMTTYPE=text/html:<h4 style="box-sizing: border-box\; margin: 15px 0px\; font-size: 20px\; line-height: 1.5\; font-family: Archivo\, sans-serif\; color: rgb(59\, 61\, 66)\;">Join us for our&nbsp\;<strong style="box-sizing: border-box\; font-weight: bold\;">11th annual</strong>&nbsp\;craft beer\, mead and wine festival. Enjoy a day of live music\, tastings\, food\, craft booths\, games\, and raffles. 100% of all proceeds support the&nbsp\;<strong style="box-sizing: border-box\; font-weight: bold\;">Alta Vista Botanical Gardens</strong>&nbsp\;and the&nbsp\;<strong style="box-sizing: border-box\; font-weight: bold\;">Amigos De Vista Lions Club</strong>.</h4>\n\n<h4 style="box-sizing: border-box\; margin: 15px 0px\; font-size: 20px\; line-height: 1.5\; font-family: Archivo\, sans-serif\; color: rgb(59\, 61\, 66)\;">The tastings will feature a wide variety of craft beers\, wines\, and mead from our local experts in the brewing community.</h4>\n\n<h4 style="box-sizing: border-box\; margin: 15px 0px\; font-size: 20px\; line-height: 1.5\; font-family: Archivo\, sans-serif\; color: rgb(59\, 61\, 66)\;">Featured Band:&nbsp\;<strong style="box-sizing: border-box\; font-weight: bold\;"><a href="https://nightowlsband.com/" rel="noopener" style="box-sizing: border-box\; background-color: transparent\; text-decoration-line: none\; transition: 0.3s\; color: rgb(110\, 193\, 228)\; box-shadow: none\;" target="_blank">https://nightowlsband.com/</a></strong></h4>\n\n<h4 style="box-sizing: border-box\; margin: 15px 0px\; font-size: 20px\; line-height: 1.5\; font-family: Archivo\, sans-serif\; color: rgb(59\, 61\, 66)\;">Your ticket purchase helps keep our Botanical Gardens alive and growing\, providing vital funds to pay utilities\, ensure upkeep\, and foster the expansion of the gardens for generations to come\, as well as\, supporting&nbsp\;<b style="box-sizing: border-box\; font-weight: bold\;">Amigos de Vista Lions Club</b>&nbsp\;charity donations.</h4>\n\n<h4 style="box-sizing: border-box\; margin: 15px 0px\; font-size: 20px\; line-height: 1.5\; font-family: Archivo\, sans-serif\; color: rgb(59\, 61\, 66)\;">Must be&nbsp\;<strong style="box-sizing: border-box\; font-weight: bold\;">21+</strong>&nbsp\;to attend. No children or dogs are allowed at this event.</h4>\n
LOCATION:Alta Vista Botanical Gardens 1270 Vale Terrace Dr. Vista\, CA 92084
UID:e.493.29566
SEQUENCE:3
DTSTAMP:20260422T133012Z
URL:https://business.vistachamber.org/events/details/novemberfest-29566
END:VEVENT

END:VCALENDAR
