BEGIN:VCALENDAR
VERSION:2.0
PRODID:-//ChamberMaster//Event Calendar 2.0//EN
METHOD:PUBLISH
X-PUBLISHED-TTL:P3D
REFRESH-INTERVAL:P3D
CALSCALE:GREGORIAN
BEGIN:VEVENT
DTSTART:20190502T153000Z
DTEND:20190502T223000Z
X-MICROSOFT-CDO-ALLDAYEVENT:FALSE
SUMMARY:Opportunity Summit 2019
DESCRIPTION:Join 800 changemakers as we continue the OpportunitySD movement of young people and allies working to increase opportunity and decrease poverty in San Diego County. The keynote speaker is Mary Daly\, President and CEO of the San Francisco Federal Reserve.
X-ALT-DESC;FMTTYPE=text/html:Join 800 changemakers as we continue the OpportunitySD movement of young people and allies working to increase opportunity and decrease poverty in San Diego County. The keynote speaker is Mary Daly\, President and CEO of the San Francisco Federal Reserve.&nbsp\;
LOCATION:Town and Country 500 Hotel Circle North\, San Diego\, CA
UID:e.493.18780
SEQUENCE:3
DTSTAMP:20260422T012324Z
URL:https://business.vistachamber.org/events/details/opportunity-summit-2019-18780
END:VEVENT

END:VCALENDAR
