BEGIN:VCALENDAR
VERSION:2.0
PRODID:-//ChamberMaster//Event Calendar 2.0//EN
METHOD:PUBLISH
X-PUBLISHED-TTL:P3D
REFRESH-INTERVAL:P3D
CALSCALE:GREGORIAN
BEGIN:VEVENT
DTSTART:20250302T030000Z
DTEND:20250302T053000Z
X-MICROSOFT-CDO-ALLDAYEVENT:FALSE
SUMMARY:Pianotastic featuring Brockett Parsons Trio & Taryn Donath Duo
DESCRIPTION:Six String Society presents this fan-favorite production\, featuring the incredible Brockett Parsons (Lady Gaga's keyboardist) and his All-Star Trio\, alongside the dynamic Taryn Donath\, a two-time San Diego Music Award winner\, and drummer Matthew Taylor.
X-ALT-DESC;FMTTYPE=text/html:<span style="background-color:rgb(252\, 252\, 252)\; color:rgb(88\, 88\, 88)\; font-family:futura-lt-w01-light\,sans-serif\; font-size:15px">Six String Society presents this fan-favorite production\, featuring the incredible Brockett Parsons (Lady Gaga&rsquo\;s keyboardist) and his All-Star Trio\, alongside the dynamic Taryn Donath\, a two-time San Diego Music Award winner\, and drummer Matthew Taylor.</span>
LOCATION:Bornemann Theatre | TERI Campus of Life 555 Deer Springs Road\, San Marcos\, CA 92069
UID:e.493.29178
SEQUENCE:3
DTSTAMP:20260422T134649Z
URL:https://business.vistachamber.org/events/details/pianotastic-featuring-brockett-parsons-trio-taryn-donath-duo-29178
END:VEVENT

END:VCALENDAR
