BEGIN:VCALENDAR
VERSION:2.0
PRODID:-//ChamberMaster//Event Calendar 2.0//EN
METHOD:PUBLISH
X-PUBLISHED-TTL:P3D
REFRESH-INTERVAL:P3D
CALSCALE:GREGORIAN
BEGIN:VEVENT
DTSTART:20190713T184500Z
DTEND:20190714T030000Z
X-MICROSOFT-CDO-ALLDAYEVENT:FALSE
SUMMARY:Pirate Crawl
DESCRIPTION:Our annual Pirate Crawl! The Pirate Crawl is a fun filled afternoon traveling through various Microbreweries in Vista sampling the many fine beers. To participate you MUST dress up as a Pirate or Wench. We set up a "Treasure Map" for all Pirates to follow. The map includes all the participating Breweries and lists the Pirate special that is provided by each Brewery. Breweries will feature a "Pirate's Pint" at a discount or a "Pirates Flight" of beer discounted just for Pirates. Everything is listed on the Treasure Map. Pirates can go to the breweries in any order and stay as long as they like. We encourage each group of Pirates to set up a designated driver\, a limo or bus for safely navigating the route. This event is FREE to everyone but we encourage the Pirates and Wenches to donate to our Charity. As this is a community service event we are gathering donations for the local chapter of the "Immigrant Justice League". We will have the Venmo link for donations on the Treasure Map. Our Facebook page is: "Santa Crawl & Pirate Crawl" where you can see photos of past events. Please e-mail us for maps & more information: beerpirate13@gmail.com
X-ALT-DESC;FMTTYPE=text/html:Our annual Pirate Crawl! The Pirate Crawl is a fun filled afternoon traveling through various Microbreweries in Vista sampling the many fine beers. To participate you MUST dress up as a Pirate or Wench. We set up a &quot\;Treasure Map&quot\; for all Pirates to follow. The map includes all the participating Breweries and lists the Pirate special that is provided by each Brewery. Breweries will feature a &quot\;Pirate&#39\;s Pint&quot\; at a discount or a &quot\;Pirates Flight&quot\; of beer discounted just for Pirates. Everything is listed on the Treasure Map. Pirates can go to the breweries in any order and stay as long as they like. We encourage each group of Pirates to set up a designated driver\, a limo or bus for safely navigating the route. This event is FREE to everyone but we encourage the Pirates and Wenches to donate to our Charity. As this is a community service event we are gathering donations for the local chapter of the &quot\;Immigrant Justice League&quot\;. We will have the Venmo link for donations on the Treasure Map. Our Facebook page is: &quot\;Santa Crawl &amp\; Pirate Crawl&quot\; where you can see photos of past events. Please e-mail us for maps &amp\; more information: beerpirate13@gmail.com
LOCATION:Start at Prohibition Brewery
UID:e.493.19187
SEQUENCE:3
DTSTAMP:20260421T042204Z
URL:https://business.vistachamber.org/events/details/pirate-crawl-19187
END:VEVENT

END:VCALENDAR
