BEGIN:VCALENDAR
VERSION:2.0
PRODID:-//ChamberMaster//Event Calendar 2.0//EN
METHOD:PUBLISH
X-PUBLISHED-TTL:P3D
REFRESH-INTERVAL:P3D
CALSCALE:GREGORIAN
BEGIN:VEVENT
DTSTART:20240731T010000Z
DTEND:20240731T040000Z
X-MICROSOFT-CDO-ALLDAYEVENT:FALSE
SUMMARY:Poker Night
DESCRIPTION:One of Misadventures most fun nights! Poker Night! Earn chips with every purchase. Chips can either be cashed in to be dealt in at the poker table or collected and cashed in for raffle tickets at the end of the night! ANYONE can win at Poker Night. Winner will receive a Misadventure Gift Box! $10 = $100 in chips = 1 raffle ticket
X-ALT-DESC;FMTTYPE=text/html:One of Misadventures most fun nights! Poker Night! Earn chips with every purchase. Chips can either be cashed in to be dealt in at the poker table or collected and cashed in for raffle tickets at the end of the night! ANYONE can win at Poker Night. Winner will receive a Misadventure Gift Box! $10 = $100 in chips = 1 raffle ticket
LOCATION:Misadventure & Co 2420 Grand Ave Vista CA 92081
UID:e.493.28639
SEQUENCE:3
DTSTAMP:20260423T080810Z
URL:https://business.vistachamber.org/events/details/poker-night-28639
END:VEVENT

END:VCALENDAR
