BEGIN:VCALENDAR
VERSION:2.0
PRODID:-//ChamberMaster//Event Calendar 2.0//EN
METHOD:PUBLISH
X-PUBLISHED-TTL:P3D
REFRESH-INTERVAL:P3D
CALSCALE:GREGORIAN
BEGIN:VEVENT
DTSTART:20251118T023000Z
DTEND:20251118T043000Z
X-MICROSOFT-CDO-ALLDAYEVENT:FALSE
SUMMARY:PROTECTING OUR YOUTH IN THE AGE OF AI AND APPS
DESCRIPTION:The City of Vista is partnering with Soroptimist International of Vista and North County Inland and the Vista Unified School District to hold a Youth Digital Safety Town Hall on Monday\, November 17 from 6:30 pm to 8:30 pm at the Morris B. Vance Community Room\, 200 Civic Center Drive\, Vista\, CA 92084. The event\, "Protecting Our Youth in an Age of AI and Apps" is free to the public\, and complimentary water and snacks will be provided. Guest panelists include San Diego District Attorney Summer Stephan\, Deputy DA's Ryan Karkenny and Claudia Grasso\, trafficking survivor/advocates\, and representatives from One Safe Place\, Generate Hope and VUSD. The purpose is to educate the community especially parents\, educators\, and youth about the digital threats facing our young people\, and to foster collaboration among the public safety\, education\, and social sectors.\n\n \n\nFor more information email allison.5858@yahoo.com or contact VUSD Student Services at 760-726-2170 Ext. 92180.
X-ALT-DESC;FMTTYPE=text/html:<p style="box-sizing: border-box\; margin: 0px\; padding: 0px 0px 1em\; border: 0px\; outline: 0px\; font-size: 14px\; text-size-adjust: 100%\; vertical-align: baseline\; background-image: initial\; background-position: initial\; background-size: initial\; background-repeat: initial\; background-attachment: initial\; background-origin: initial\; background-clip: initial\; color: rgb(102\, 102\, 102)\; font-family: &quot\;Open Sans&quot\;\, Arial\, sans-serif\;">The City of Vista is partnering with Soroptimist International of Vista and North County Inland and the Vista Unified School District to hold a Youth Digital Safety Town Hall on Monday\, November 17 from 6:30 pm to 8:30 pm at the Morris B. Vance Community Room\, 200 Civic Center Drive\, Vista\, CA 92084. The event\, &ldquo\;Protecting Our Youth in an Age of AI and Apps&rdquo\; is free to the public\, and complimentary water and snacks will be provided. Guest panelists include San Diego District Attorney Summer Stephan\, Deputy DA&rsquo\;s Ryan Karkenny and Claudia Grasso\, trafficking survivor/advocates\, and representatives from One Safe Place\, Generate Hope and VUSD. The purpose is to educate the community&mdash\;especially parents\, educators\, and youth&mdash\;about the digital threats facing our young people\, and to foster collaboration among the public safety\, education\, and social sectors.</p>\n\n<p style="box-sizing: border-box\; margin: 0px\; padding: 0px 0px 1em\; border: 0px\; outline: 0px\; font-size: 14px\; text-size-adjust: 100%\; vertical-align: baseline\; background-image: initial\; background-position: initial\; background-size: initial\; background-repeat: initial\; background-attachment: initial\; background-origin: initial\; background-clip: initial\; color: rgb(102\, 102\, 102)\; font-family: &quot\;Open Sans&quot\;\, Arial\, sans-serif\;">&nbsp\;</p>\n\n<p style="box-sizing: border-box\; margin: 0px\; padding: 0px\; border: 0px\; outline: 0px\; font-size: 14px\; text-size-adjust: 100%\; vertical-align: baseline\; background-image: initial\; background-position: initial\; background-size: initial\; background-repeat: initial\; background-attachment: initial\; background-origin: initial\; background-clip: initial\; color: rgb(102\, 102\, 102)\; font-family: &quot\;Open Sans&quot\;\, Arial\, sans-serif\;">For more information email allison.5858@yahoo.com or contact VUSD Student Services at 760-726-2170 Ext. 92180.</p>\n
LOCATION:Morris B. Vance Community Room 200 Civic Center Dr. Vista\, CA 92084
UID:e.493.29624
SEQUENCE:3
DTSTAMP:20260422T135007Z
URL:https://business.vistachamber.org/events/details/protecting-our-youth-in-the-age-of-ai-and-apps-29624
END:VEVENT

END:VCALENDAR
