BEGIN:VCALENDAR
VERSION:2.0
PRODID:-//ChamberMaster//Event Calendar 2.0//EN
METHOD:PUBLISH
X-PUBLISHED-TTL:P3D
REFRESH-INTERVAL:P3D
CALSCALE:GREGORIAN
BEGIN:VEVENT
DTSTART:20251210T000000Z
DTEND:20251210T030000Z
X-MICROSOFT-CDO-ALLDAYEVENT:FALSE
SUMMARY:Redmond Diamond Center Holiday Open House
DESCRIPTION:Join us at Redmond Diamond Center as we celebrate the season and our beautiful new Carlsbad location.\n\n\n\nEnjoy small bites\, complimentary wine and beer\, and the opportunity to mingle and connect with business park neighbors\, chamber members\, customers\, and friends.\n\n\n\nHOLIDAY TOY & FOOD DRIVE\n\nWe kindly invite each guest to bring a new toy (for kids 6-10) or non-perishable food items to contribute to our Holiday Toy & Food Drive - supporting Operation HOPE - North County and help brighten a local family's holiday season.\n\n \nEnter our raffle for a chance to win one of three prizes\, enter November 18 through December 24:\n\n \n\n            Holiday Giveaway 2025\n\n2ct Lab created Diamond Oval\n\n0.76ct Lab Diamond Studs\n\nSilver Bolo Bracelet
X-ALT-DESC;FMTTYPE=text/html:<span style="font-size:14px\;"><span style="font-family:arial\;">Join us at Redmond Diamond Center as we celebrate the season and our beautiful new Carlsbad location.<br />\n<br />\nEnjoy small bites\, complimentary wine and beer\, and the opportunity to mingle and connect with business park neighbors\, chamber members\, customers\, and friends.<br />\n<br />\n<strong>HOLIDAY TOY &amp\; FOOD DRIVE</strong><br />\nWe kindly invite each guest to bring a new toy (for kids 6-10) or non-perishable food items to contribute to our Holiday Toy &amp\; Food Drive - supporting Operation HOPE - North County and help brighten a local family&#39\;s holiday season.</span></span><br />\n&nbsp\;\n<p class="x_x_MsoNormal" data-olk-copy-source="MessageBody" style="margin-top: 0px\; margin-bottom: 0px\; color: rgb(36\, 36\, 36)\; font-family: &quot\;Segoe UI&quot\;\, &quot\;Segoe UI Web (West European)&quot\;\, -apple-system\, BlinkMacSystemFont\, Roboto\, &quot\;Helvetica Neue&quot\;\, sans-serif\; font-size: 15px\;"><span style="font-size:14px\;"><span style="font-family:arial\;">Enter our raffle&nbsp\;for a chance to win one of three prizes\, enter November 18 through December 24:</span></span></p>\n\n<p class="x_x_MsoNormal" style="margin-top: 0px\; margin-bottom: 0px\;"><span style="font-size:14px\;"><span style="font-family:arial\;"><span class="x_x_gmail-im" style="border: 0px\; font-variant-numeric: inherit\; font-variant-east-asian: inherit\; font-variant-alternates: inherit\; font-variant-position: inherit\; font-variant-emoji: inherit\; font-stretch: inherit\; line-height: inherit\; font-optical-sizing: inherit\; font-size-adjust: inherit\; font-kerning: inherit\; font-feature-settings: inherit\; font-variation-settings: inherit\; margin: 0px\; padding: 0px\; vertical-align: baseline\; color: rgb(36\, 36\, 36)\;">&nbsp\;</span></span></span></p>\n\n<p class="x_x_MsoNormal" style="margin-top: 0px\; margin-bottom: 0px\;"><span style="font-size:14px\;"><span style="font-family:arial\;"><span class="x_x_gmail-im" style="border: 0px\; font-variant-numeric: inherit\; font-variant-east-asian: inherit\; font-variant-alternates: inherit\; font-variant-position: inherit\; font-variant-emoji: inherit\; font-stretch: inherit\; line-height: inherit\; font-optical-sizing: inherit\; font-size-adjust: inherit\; font-kerning: inherit\; font-feature-settings: inherit\; font-variation-settings: inherit\; margin: 0px\; padding: 0px\; vertical-align: baseline\; color: rgb(36\, 36\, 36)\;">&nbsp\;&nbsp\;&nbsp\;&nbsp\;&nbsp\;&nbsp\;&nbsp\;&nbsp\;&nbsp\;&nbsp\;&nbsp\;&nbsp\;<b><i>Holiday Giveaway 2025</i></b></span></span></span></p>\n\n<p class="x_x_MsoNormal" style="margin-top: 0px\; margin-bottom: 0px\; margin-left: 0.5in\;"><span style="font-size:14px\;"><span style="font-family:arial\;"><span class="x_x_gmail-im" style="border: 0px\; font-variant-numeric: inherit\; font-variant-east-asian: inherit\; font-variant-alternates: inherit\; font-variant-position: inherit\; font-variant-emoji: inherit\; font-stretch: inherit\; line-height: inherit\; font-optical-sizing: inherit\; font-size-adjust: inherit\; font-kerning: inherit\; font-feature-settings: inherit\; font-variation-settings: inherit\; margin: 0px\; padding: 0px\; vertical-align: baseline\; color: rgb(36\, 36\, 36)\;">2ct Lab created Diamond Oval</span></span></span></p>\n\n<p class="x_x_MsoNormal" style="margin-top: 0px\; margin-bottom: 0px\; margin-left: 0.5in\;"><span style="font-size:14px\;"><span style="font-family:arial\;"><span class="x_x_gmail-im" style="border: 0px\; font-variant-numeric: inherit\; font-variant-east-asian: inherit\; font-variant-alternates: inherit\; font-variant-position: inherit\; font-variant-emoji: inherit\; font-stretch: inherit\; line-height: inherit\; font-optical-sizing: inherit\; font-size-adjust: inherit\; font-kerning: inherit\; font-feature-settings: inherit\; font-variation-settings: inherit\; margin: 0px\; padding: 0px\; vertical-align: baseline\; color: rgb(36\, 36\, 36)\;">0.76ct Lab Diamond Studs</span></span></span></p>\n\n<p class="x_x_MsoNormal" style="margin-top: 0px\; margin-bottom: 0px\; margin-left: 0.5in\;"><span style="font-size:14px\;"><span style="font-family:arial\;"><span class="x_x_gmail-im" style="border: 0px\; font-variant-numeric: inherit\; font-variant-east-asian: inherit\; font-variant-alternates: inherit\; font-variant-position: inherit\; font-variant-emoji: inherit\; font-stretch: inherit\; line-height: inherit\; font-optical-sizing: inherit\; font-size-adjust: inherit\; font-kerning: inherit\; font-feature-settings: inherit\; font-variation-settings: inherit\; margin: 0px\; padding: 0px\; vertical-align: baseline\; color: rgb(36\, 36\, 36)\;">Silver Bolo Bracelet</span></span></span></p>\n
LOCATION:Redmond Diamond Center 3141 Tiger Run Ct\, Suite 105 Carlsbad\, CA 92010
UID:e.493.29630
SEQUENCE:3
DTSTAMP:20260422T172528Z
URL:https://business.vistachamber.org/events/details/redmond-diamond-center-holiday-open-house-29630
END:VEVENT

END:VCALENDAR
