BEGIN:VCALENDAR
VERSION:2.0
PRODID:-//ChamberMaster//Event Calendar 2.0//EN
METHOD:PUBLISH
X-PUBLISHED-TTL:P3D
REFRESH-INTERVAL:P3D
CALSCALE:GREGORIAN
BEGIN:VEVENT
DTSTART:20251115T190000Z
DTEND:20251115T210000Z
X-MICROSOFT-CDO-ALLDAYEVENT:FALSE
SUMMARY:Retread Volunteer Dar Thanksgiving Potluck
DESCRIPTION:This Volunteer Day\, we want to set some time aside to celebrate what we've accomplished and everyone that has helped us along the way.\n\n\n\nJoin our residents and staff for a Thanksgiving Potluck! Bring a dish to share\, or just bring yourself whether you've volunteered with us or not.\n\n\n\nRSVP: Retread Volunteer Day Thanksgiving Potluck
X-ALT-DESC;FMTTYPE=text/html:This Volunteer Day\, we want to set some time aside to celebrate what we&#39\;ve accomplished and everyone that has helped us along the way.<br />\n<br />\nJoin our residents and staff for a Thanksgiving Potluck! Bring a dish to share\, or just bring yourself whether you&#39\;ve volunteered with us or not.<br />\n<br />\nRSVP:&nbsp\;<a href="https://docs.google.com/forms/d/e/1FAIpQLSdp1fZVH642CWl67fDqkh3VXrmxTeYk3aXc0H6ZNykVmIsFsQ/viewform">Retread Volunteer Day Thanksgiving Potluck</a>
LOCATION:2148 S Santa Fe Ave.
UID:e.493.29608
SEQUENCE:3
DTSTAMP:20260422T133413Z
URL:https://business.vistachamber.org/events/details/retread-volunteer-dar-thanksgiving-potluck-29608
END:VEVENT

END:VCALENDAR
