BEGIN:VCALENDAR
VERSION:2.0
PRODID:-//ChamberMaster//Event Calendar 2.0//EN
METHOD:PUBLISH
X-PUBLISHED-TTL:P3D
REFRESH-INTERVAL:P3D
CALSCALE:GREGORIAN
BEGIN:VEVENT
DTSTART:20220614T230000Z
DTEND:20220614T233000Z
X-MICROSOFT-CDO-ALLDAYEVENT:FALSE
SUMMARY:Ribbon Cutting for PWT Chemicals
DESCRIPTION:Join us to celebrate the renovation of PWT's office!\n\nFood and beverages will be provided.
X-ALT-DESC;FMTTYPE=text/html:<span style="font-family:verdana\;"><span style="font-size:16px\;"><strong><span style="font-size:18px\;">Join us to celebrate the renovation of PWT&#39\;s office!</span></strong><br />\nFood and beverages will be provided.</span></span>
LOCATION:1048 La Mirada Court Vista\, CA 92081
UID:e.493.24076
SEQUENCE:3
DTSTAMP:20260426T020257Z
URL:https://business.vistachamber.org/events/details/ribbon-cutting-for-pwt-chemicals-24076
END:VEVENT

END:VCALENDAR
