BEGIN:VCALENDAR
VERSION:2.0
PRODID:-//ChamberMaster//Event Calendar 2.0//EN
METHOD:PUBLISH
X-PUBLISHED-TTL:P3D
REFRESH-INTERVAL:P3D
CALSCALE:GREGORIAN
BEGIN:VEVENT
DTSTART:20181017T190000Z
DTEND:20181017T200000Z
X-MICROSOFT-CDO-ALLDAYEVENT:FALSE
SUMMARY:Roundtable: Dynamex Ruling
DESCRIPTION:The I'm Independent Coalition invites you to a rouindtable Lunch & Learn on the CA Supreme Court Dynamex Ruling. Join legal experts from the California Chamber of Commerce to learn about how the Dynamex decision is impacting small businesses and independent contrators in nearly every industry. Learn what you can do to ask the state to protect your business.
X-ALT-DESC;FMTTYPE=text/html:The I&#39\;m Independent Coalition invites you to a rouindtable Lunch &amp\; Learn on the CA Supreme Court Dynamex Ruling. Join legal experts from the California Chamber of Commerce to learn about how the Dynamex decision is impacting small businesses and independent contrators in nearly every industry. Learn what you can do to ask the state to protect your business.
LOCATION:San Diego Regional CHamber of Commerce 402 West Broadway #1000 San Diego\, CA 92101
UID:e.493.18694
SEQUENCE:3
DTSTAMP:20260425T041526Z
URL:https://business.vistachamber.org/events/details/roundtable-dynamex-ruling-18694
END:VEVENT

END:VCALENDAR
