BEGIN:VCALENDAR
VERSION:2.0
PRODID:-//ChamberMaster//Event Calendar 2.0//EN
METHOD:PUBLISH
X-PUBLISHED-TTL:P3D
REFRESH-INTERVAL:P3D
CALSCALE:GREGORIAN
BEGIN:VEVENT
DTSTART:20181001T230000Z
DTEND:20181002T010000Z
X-MICROSOFT-CDO-ALLDAYEVENT:FALSE
SUMMARY:Security Training and Threat Recognition
DESCRIPTION:How can YOU make your Workplace\, School\, Church and Community safer? This four-session seminar has been designed to teach you what to "SEE" and what to "SAY" if confronted with a potential threat. Topics include: \n\n	The Art and Science of Visual Intelligence\n	Universal Non-Verbal Human Behavior and Predictive Analytics\n	Various Channels of Human Communication\n	Increasing your General Situational Awareness\n\nTaught by U.S. Marine Corps officer\, Lee Wakefield and Sentir Global.\n\nEach two-hour session in interactive and informative
X-ALT-DESC;FMTTYPE=text/html:How can YOU make your Workplace\, School\, Church and Community safer? This four-session seminar has been designed to teach you what to &quot\;SEE&quot\; and what to &quot\;SAY&quot\; if confronted with a potential threat. Topics include:&nbsp\;\n<ul>\n	<li>The Art and Science of Visual Intelligence</li>\n	<li>Universal Non-Verbal Human Behavior and Predictive Analytics</li>\n	<li>Various Channels of Human Communication</li>\n	<li>Increasing your General Situational Awareness</li>\n</ul>\nTaught by U.S. Marine Corps officer\, Lee Wakefield and Sentir Global.<br />\nEach two-hour session in interactive and informative
LOCATION:Oceanside Chamber of Commerce 928 North Coast Highway
UID:e.493.18654
SEQUENCE:3
DTSTAMP:20260424T061533Z
URL:https://business.vistachamber.org/events/details/security-training-and-threat-recognition-18654
END:VEVENT

END:VCALENDAR
