BEGIN:VCALENDAR
VERSION:2.0
PRODID:-//ChamberMaster//Event Calendar 2.0//EN
METHOD:PUBLISH
X-PUBLISHED-TTL:P3D
REFRESH-INTERVAL:P3D
CALSCALE:GREGORIAN
BEGIN:VEVENT
DTSTART:20190904T170000Z
DTEND:20190904T183000Z
X-MICROSOFT-CDO-ALLDAYEVENT:FALSE
SUMMARY:Senior Scam Stopper
DESCRIPTION:Be informed and protect yourself ...join us and learn how to protect yourself from scammers. Seniors\, their families and caregivers are welcome to attend this FREE seminar. Congressman Mike Levin and the Contractors State License Board invite you to attend a FREE Senior Scam Stopper seminar. For more information please contact Congressman Levin's office at (949) 281-2449.\n\nhttp://www.seniorscamstopper.com
X-ALT-DESC;FMTTYPE=text/html:<span style="font-size:18px\;">Be informed and protect yourself ...join us and learn how to protect yourself from scammers. Seniors\, their families and caregivers are welcome to attend this FREE seminar. Congressman Mike Levin and the Contractors State License Board invite you to attend a FREE Senior Scam Stopper seminar. For more information please contact Congressman Levin&#39\;s office at (949) 281-2449.<br />\n<a href="http://www.seniorscamstopper.com">http://www.seniorscamstopper.com</a></span>
LOCATION:Vista Senior Center 1400 Vale Terrace Drive
UID:e.493.19302
SEQUENCE:3
DTSTAMP:20260420T055538Z
URL:https://business.vistachamber.org/events/details/senior-scam-stopper-19302
END:VEVENT

END:VCALENDAR
