BEGIN:VCALENDAR
VERSION:2.0
PRODID:-//ChamberMaster//Event Calendar 2.0//EN
METHOD:PUBLISH
X-PUBLISHED-TTL:P3D
REFRESH-INTERVAL:P3D
CALSCALE:GREGORIAN
BEGIN:VEVENT
DTSTART;VALUE=DATE:20190303
DTEND;VALUE=DATE:20190306
TRANSP:TRANSPARENT
X-MICROSOFT-CDO-ALLDAYEVENT:TRUE
SUMMARY:Servant Leader Conference
DESCRIPTION:What to expect from a Leadership conference:\n\n	Lessons learned\, tools and tips from gifted and proven speakers\n	High levels of engagement as we facilitate breakouts to gain a deeper understanding of practices\n	Connections with like-minded individuals from a wide variety of industries\, all part of the movement\n	A beautifu setting to relax and learn in the Southern California coastal town of Carlsbad\n	A sense of belonging to something significant and well worth your time
X-ALT-DESC;FMTTYPE=text/html:What to expect from a Leadership conference:\n<ul>\n	<li>Lessons learned\, tools and tips from gifted and proven speakers</li>\n	<li>High levels of engagement as we facilitate breakouts to gain a deeper understanding of practices</li>\n	<li>Connections with like-minded individuals from a wide variety of industries\, all part of the movement</li>\n	<li>A beautifu setting to relax and learn in the Southern California coastal town of Carlsbad</li>\n	<li>A sense of belonging to something significant and well worth your time</li>\n</ul>\n
LOCATION:The Westin Carlsbad Resort & Spa 5480 Grand Pacific Drive\, Carlsbad
UID:e.493.18774
SEQUENCE:3
DTSTAMP:20260422T094008Z
URL:https://business.vistachamber.org/events/details/servant-leader-conference-18774
END:VEVENT

END:VCALENDAR
