BEGIN:VCALENDAR
VERSION:2.0
PRODID:-//ChamberMaster//Event Calendar 2.0//EN
METHOD:PUBLISH
X-PUBLISHED-TTL:P3D
REFRESH-INTERVAL:P3D
CALSCALE:GREGORIAN
BEGIN:VEVENT
DTSTART:20181103T200000Z
DTEND:20181103T220000Z
X-MICROSOFT-CDO-ALLDAYEVENT:FALSE
SUMMARY:Showing & Growing
DESCRIPTION:Better Together Breakthroughs and Babies in Bloom invite you to a free class for families expecting a baby. Bring your partner and join us for a family event as we create a one of a kind family vision board to  discover what really matters. Learn tips and tricks for fulfilling your relationship as you grow your family. Including a professional maternity photo\, and a vision board to plan for when baby arrives. Keep your love alive by celebrating and defining your future.
X-ALT-DESC;FMTTYPE=text/html:<p><span style="font-family:raleway\,sans-serif\; font-size:15px">Better Together Breakthroughs and Babies in Bloom&nbsp\;invite you to a free class for families expecting a baby. Bring your partner and join us for a family event as we create a one of a kind family vision board to&nbsp\; discover what really matters. Learn tips and tricks for fulfilling your relationship as you grow your family. Including a professional maternity photo\, and a vision board to plan for when baby arrives. Keep your love alive by celebrating and defining your future.&nbsp\;</span></p>\n
LOCATION:Babies In Bloom Birth Center and Boutique 1948 Via Centre Vista\, CA 92081
UID:e.493.18723
SEQUENCE:3
DTSTAMP:20260424T040535Z
URL:https://business.vistachamber.org/events/details/showing-growing-18723
END:VEVENT

END:VCALENDAR
