BEGIN:VCALENDAR
VERSION:2.0
PRODID:-//ChamberMaster//Event Calendar 2.0//EN
METHOD:PUBLISH
X-PUBLISHED-TTL:P3D
REFRESH-INTERVAL:P3D
CALSCALE:GREGORIAN
BEGIN:VEVENT
DTSTART:20260324T160000Z
DTEND:20260324T163000Z
X-MICROSOFT-CDO-ALLDAYEVENT:FALSE
SUMMARY:Special Event Responsible Beverage Training
DESCRIPTION:The Special Event Responsible Beverage Training is a quick training for those who volunteer for the Chamber and other community organizations with events that serve alcohol.\n\n\n\nThis is good for any volunteer opportunities you do in San Diego County with any organization where you intend to volunteer your help with bar service. The painless\, 20-minute training is good for 2 years and FREE of charge.
X-ALT-DESC;FMTTYPE=text/html:The Special Event Responsible Beverage Training is a quick training for those who volunteer for the Chamber and other community organizations with events that serve alcohol.<br />\n<br />\nThis is good for any volunteer opportunities you do in San Diego County with any organization where you intend to volunteer your help with bar service. The painless\, 20-minute training is good for 2 years and FREE of charge.
LOCATION:The Film Hub 170 Eucalyptus Ave.
UID:e.493.32248
SEQUENCE:3
DTSTAMP:20260422T205015Z
URL:https://business.vistachamber.org/events/details/special-event-responsible-beverage-training-32248
END:VEVENT

END:VCALENDAR
