BEGIN:VCALENDAR
VERSION:2.0
PRODID:-//ChamberMaster//Event Calendar 2.0//EN
METHOD:PUBLISH
X-PUBLISHED-TTL:P3D
REFRESH-INTERVAL:P3D
CALSCALE:GREGORIAN
BEGIN:VEVENT
DTSTART:20240807T160000Z
DTEND:20240807T180000Z
X-MICROSOFT-CDO-ALLDAYEVENT:FALSE
SUMMARY:Special Events Permits Workshop
DESCRIPTION:Join us to learn about special events permits for businesses and the general public in the City of Vista. Make sure your next event is successful with the help of the City of Vista. This workshop will be led by Sara Trench\, Management Analyst at the City of Vista.\n\n\n\nStay afterwards to connect with fellow business owners with some coffee and donuts.\n\n \nAcompa enos para aprender sobre los permisos para eventos especiales para negocios y el p blico en general en la ciudad de Vista. Aseg rese de que su pr ximo evento sea exitoso con la ayuda de la Ciudad de Vista. Este taller ser  dirigido por Sara Trench\, Analista de Gesti n de la Ciudad de Vista.\n\n\n\nQu date despu s para conectarte con otros due os de negocios con un poco de caf  y donas.
X-ALT-DESC;FMTTYPE=text/html:<span style="font-size:16px\;"><span style="font-family:arial\;">Join us to learn about special events permits for businesses and the general public in the City of Vista. Make sure your next event is successful with the help of the City of Vista. This workshop will be led by Sara Trench\, Management Analyst at the City of Vista.<br />\n<br />\nStay afterwards to connect with fellow business owners with some coffee and donuts.</span></span><br />\n&nbsp\;\n<div role="label" tabindex="-1"><span style="font-size:16px\;"><span style="font-family:arial\;">Acompa&ntilde\;enos&nbsp\;<span class="ts-alignment-element" data-is-focusable="true" id="tgtAlignment_3" style="background-color: transparent\;">para</span>&nbsp\;aprender&nbsp\;<span class="ts-alignment-element" data-is-focusable="true" id="tgtAlignment_6" style="background-color: transparent\;">sobre</span> <span class="ts-alignment-element" data-is-focusable="true" id="tgtAlignment_7" style="background-color: transparent\;">los</span> <span class="ts-alignment-element" data-is-focusable="true" id="tgtAlignment_8" style="background-color: transparent\;">permisos</span> <span class="ts-alignment-element" data-is-focusable="true" id="tgtAlignment_9" style="background-color: transparent\;">para</span> <span class="ts-alignment-element" data-is-focusable="true" id="tgtAlignment_10" style="background-color: transparent\;">eventos</span> <span class="ts-alignment-element" data-is-focusable="true" id="tgtAlignment_11" style="background-color: transparent\;">especiales</span> <span class="ts-alignment-element" data-is-focusable="true" id="tgtAlignment_12" style="background-color: transparent\;">para</span>&nbsp\;negocios&nbsp\;<span class="ts-alignment-element" data-is-focusable="true" id="tgtAlignment_14" style="background-color: transparent\;">y</span> <span class="ts-alignment-element" data-is-focusable="true" id="tgtAlignment_15" style="background-color: transparent\;">el</span> <span class="ts-alignment-element" data-is-focusable="true" id="tgtAlignment_16" style="background-color: transparent\;">p&uacute\;blico</span> <span class="ts-alignment-element" data-is-focusable="true" id="tgtAlignment_17" style="background-color: transparent\;">en</span> <span class="ts-alignment-element" data-is-focusable="true" id="tgtAlignment_18" style="background-color: transparent\;">general</span> <span class="ts-alignment-element" data-is-focusable="true" id="tgtAlignment_19" style="background-color: transparent\;">en</span> <span class="ts-alignment-element" data-is-focusable="true" id="tgtAlignment_20" style="background-color: transparent\;">la</span> <span class="ts-alignment-element" data-is-focusable="true" id="tgtAlignment_21" style="background-color: transparent\;">ciudad</span> <span class="ts-alignment-element" data-is-focusable="true" id="tgtAlignment_22" style="background-color: transparent\;">de</span> <span class="ts-alignment-element" data-is-focusable="true" id="tgtAlignment_23" style="background-color: transparent\;">Vista</span><span class="ts-alignment-element" data-is-focusable="true" id="tgtAlignment_24" style="background-color: transparent\;">.</span> <span class="ts-alignment-element" data-is-focusable="true" id="tgtAlignment_25" style="background-color: transparent\;">Aseg&uacute\;rese</span> <span class="ts-alignment-element-highlighted" data-is-focusable="true" id="tgtAlignment_26" style="background-color: rgb(212\, 212\, 212)\;">de</span> <span class="ts-alignment-element-highlighted" data-is-focusable="true" id="tgtAlignment_27" style="background-color: rgb(212\, 212\, 212)\;">que</span> <span class="ts-alignment-element" data-is-focusable="true" id="tgtAlignment_28" style="background-color: transparent\;">su</span> <span class="ts-alignment-element" data-is-focusable="true" id="tgtAlignment_29" style="background-color: transparent\;">pr&oacute\;ximo</span> <span class="ts-alignment-element" data-is-focusable="true" id="tgtAlignment_30" style="background-color: transparent\;">evento</span> <span class="ts-alignment-element" data-is-focusable="true" id="tgtAlignment_31" style="background-color: transparent\;">sea</span> <span class="ts-alignment-element" data-is-focusable="true" id="tgtAlignment_32" style="background-color: transparent\;">exitoso</span> <span class="ts-alignment-element" data-is-focusable="true" id="tgtAlignment_33" style="background-color: transparent\;">con</span> <span class="ts-alignment-element" data-is-focusable="true" id="tgtAlignment_34" style="background-color: transparent\;">la</span> <span class="ts-alignment-element" data-is-focusable="true" id="tgtAlignment_35" style="background-color: transparent\;">ayuda</span> <span class="ts-alignment-element" data-is-focusable="true" id="tgtAlignment_36" style="background-color: transparent\;">de</span> <span class="ts-alignment-element" data-is-focusable="true" id="tgtAlignment_37" style="background-color: transparent\;">la</span> <span class="ts-alignment-element" data-is-focusable="true" id="tgtAlignment_38" style="background-color: transparent\;">Ciudad</span> <span class="ts-alignment-element" data-is-focusable="true" id="tgtAlignment_39" style="background-color: transparent\;">de</span> <span class="ts-alignment-element" data-is-focusable="true" id="tgtAlignment_40" style="background-color: transparent\;">Vista</span><span class="ts-alignment-element" data-is-focusable="true" id="tgtAlignment_41" style="background-color: transparent\;">.</span> <span class="ts-alignment-element" data-is-focusable="true" id="tgtAlignment_42" style="background-color: transparent\;">Este</span> <span class="ts-alignment-element" data-is-focusable="true" id="tgtAlignment_43" style="background-color: transparent\;">taller</span> <span class="ts-alignment-element" data-is-focusable="true" id="tgtAlignment_44" style="background-color: transparent\;">ser&aacute\;</span> <span class="ts-alignment-element" data-is-focusable="true" id="tgtAlignment_45" style="background-color: transparent\;">dirigido</span> <span class="ts-alignment-element" data-is-focusable="true" id="tgtAlignment_46" style="background-color: transparent\;">por</span> <span class="ts-alignment-element" data-is-focusable="true" id="tgtAlignment_47" style="background-color: transparent\;">Sara</span> <span class="ts-alignment-element" data-is-focusable="true" id="tgtAlignment_48" style="background-color: transparent\;">Trench</span><span class="ts-alignment-element" data-is-focusable="true" id="tgtAlignment_49" style="background-color: transparent\;">\,</span> <span class="ts-alignment-element" data-is-focusable="true" id="tgtAlignment_50" style="background-color: transparent\;">Analista</span> <span class="ts-alignment-element" data-is-focusable="true" id="tgtAlignment_51" style="background-color: transparent\;">de</span> <span class="ts-alignment-element" data-is-focusable="true" id="tgtAlignment_52" style="background-color: transparent\;">Gesti&oacute\;n</span> <span class="ts-alignment-element" data-is-focusable="true" id="tgtAlignment_53" style="background-color: transparent\;">de</span> <span class="ts-alignment-element" data-is-focusable="true" id="tgtAlignment_54" style="background-color: transparent\;">la</span> <span class="ts-alignment-element" data-is-focusable="true" id="tgtAlignment_55" style="background-color: transparent\;">Ciudad</span> <span class="ts-alignment-element" data-is-focusable="true" id="tgtAlignment_56" style="background-color: transparent\;">de</span> <span class="ts-alignment-element" data-is-focusable="true" id="tgtAlignment_57" style="background-color: transparent\;">Vista</span><span class="ts-alignment-element" data-is-focusable="true" id="tgtAlignment_58" style="background-color: transparent\;">.</span><br />\n<br />\n<span class="ts-alignment-element" data-is-focusable="true" id="tgtAlignment_59" style="background-color: transparent\;">Qu&eacute\;date</span> <span class="ts-alignment-element" data-is-focusable="true" id="tgtAlignment_60" style="background-color: transparent\;">despu&eacute\;s</span> <span class="ts-alignment-element" data-is-focusable="true" id="tgtAlignment_61" style="background-color: transparent\;">para</span> <span class="ts-alignment-element" data-is-focusable="true" id="tgtAlignment_62" style="background-color: transparent\;">conectarte</span> <span class="ts-alignment-element" data-is-focusable="true" id="tgtAlignment_63" style="background-color: transparent\;">con</span> <span class="ts-alignment-element" data-is-focusable="true" id="tgtAlignment_64" style="background-color: transparent\;">otros</span> <span class="ts-alignment-element" data-is-focusable="true" id="tgtAlignment_65" style="background-color: transparent\;">due&ntilde\;os</span> <span class="ts-alignment-element" data-is-focusable="true" id="tgtAlignment_66" style="background-color: transparent\;">de</span> <span class="ts-alignment-element" data-is-focusable="true" id="tgtAlignment_67" style="background-color: transparent\;">negocios</span> <span class="ts-alignment-element" data-is-focusable="true" id="tgtAlignment_68" style="background-color: transparent\;">con</span> <span class="ts-alignment-element" data-is-focusable="true" id="tgtAlignment_69" style="background-color: transparent\;">un</span> <span class="ts-alignment-element" data-is-focusable="true" id="tgtAlignment_70" style="background-color: transparent\;">poco</span> <span class="ts-alignment-element" data-is-focusable="true" id="tgtAlignment_71" style="background-color: transparent\;">de</span> <span class="ts-alignment-element" data-is-focusable="true" id="tgtAlignment_72" style="background-color: transparent\;">caf&eacute\;</span> <span class="ts-alignment-element" data-is-focusable="true" id="tgtAlignment_73" style="background-color: transparent\;">y</span> <span class="ts-alignment-element" data-is-focusable="true" id="tgtAlignment_74" style="background-color: transparent\;">donas</span><span class="ts-alignment-element" data-is-focusable="true" id="tgtAlignment_75" style="background-color: transparent\;">.</span></span></span></div>\n
LOCATION:City of Vista Community Room 200 Civic Center Drive Vista\, CA 92084
UID:e.493.27555
SEQUENCE:3
DTSTAMP:20260423T034140Z
URL:https://business.vistachamber.org/events/details/special-events-permits-workshop-27555
END:VEVENT

END:VCALENDAR
