BEGIN:VCALENDAR
VERSION:2.0
PRODID:-//ChamberMaster//Event Calendar 2.0//EN
METHOD:PUBLISH
X-PUBLISHED-TTL:P3D
REFRESH-INTERVAL:P3D
CALSCALE:GREGORIAN
BEGIN:VEVENT
DTSTART:20190420T170000Z
DTEND:20190420T190000Z
X-MICROSOFT-CDO-ALLDAYEVENT:FALSE
SUMMARY:Spring Eggstravaganza
DESCRIPTION:Celebrate the arrival of spring and head to the City of Vista's Spring Eggstravaganza on Sat.\, April 20\, from 10 a.m. to Noon at the Jim Porter Recreation Center\, 1200 Vale Terrace Dr.\, Vista. Kids\,  ages two to 12 can be a part of the "egg-citement" and receive eggs and candy\, enjoy face painting\, games\, and other extra activities. There will be a special appearance by the Easter Bunny - who will  be available for selfies and photos.\n\nWith over 2\,000 eggs and 1\,000 jelly bean packets to distribute   kids are sure to have a morning of springtime fun. The event is free and open to the public (*please see age limit for participation). For more information\, visit cityofvista.com\, or call (760) 639-6151
X-ALT-DESC;FMTTYPE=text/html:<p style="margin: 0px 0px 1em\; color: rgb(68\, 68\, 68)\; font-family: Tahoma\, sans-serif\; font-size: 13px\; background-color: rgb(255\, 255\, 255)\;"><font class="subtitle" style="font-size: 14.95px\; color: rgb(35\, 90\, 137)\; font-family: latobold\, arial\, sans-serif\; text-shadow: rgba(35\, 31\, 32\, 0.3) 0px 0px 1px\;">Celebrate the arrival of spring and head to the City of Vista&rsquo\;s Spring Eggstravaganza on Sat.\, April 20\, from 10 a.m. to Noon at the Jim Porter Recreation Center\, 1200 Vale Terrace Dr.\, Vista. Kids\,&nbsp\; ages two to 12 can be a part of the &ldquo\;egg-citement&rdquo\; and receive eggs and candy\, enjoy face painting\, games\, and other extra activities. There will be a special appearance by the Easter Bunny - who will&nbsp\; be available for selfies and photos.</font></p>\n\n<p style="margin: 0px 0px 1em\; color: rgb(68\, 68\, 68)\; font-family: Tahoma\, sans-serif\; font-size: 13px\; background-color: rgb(255\, 255\, 255)\;"><font class="subtitle" style="font-size: 14.95px\; color: rgb(35\, 90\, 137)\; font-family: latobold\, arial\, sans-serif\; text-shadow: rgba(35\, 31\, 32\, 0.3) 0px 0px 1px\;">With over 2\,000 eggs and 1\,000 jelly bean packets to distribute &ndash\; kids are sure to have a morning of springtime fun. The event is free and open to the public (*please see age limit for participation). For more information\, visit cityofvista.com\, or call (760) 639-6151</font></p>\n
LOCATION:
UID:e.493.18876
SEQUENCE:3
DTSTAMP:20260422T042350Z
URL:https://business.vistachamber.org/events/details/spring-eggstravaganza-18876
END:VEVENT

END:VCALENDAR
