BEGIN:VCALENDAR
VERSION:2.0
PRODID:-//ChamberMaster//Event Calendar 2.0//EN
METHOD:PUBLISH
X-PUBLISHED-TTL:P3D
REFRESH-INTERVAL:P3D
CALSCALE:GREGORIAN
BEGIN:VEVENT
DTSTART:20260315T230000Z
DTEND:20260316T020000Z
X-MICROSOFT-CDO-ALLDAYEVENT:FALSE
SUMMARY:Spring Hymn Festival
DESCRIPTION:Spring Hymn Festival\n\nJoin the combined voices of the United Methodist Church of Vista and Oceanside First Presbyterian Church for an afternoon of timeless anthems\, favorite hymns\, and handbell arrangements. This is more than a concert it is a community sing! While our choirs lead with majestic choral arrangements and the roar of the pipe organ\, the heart of the festival is your voice. We invite you to sit among friends\, new and old\, to rediscover the melodies that have shaped our faith.\n\nSunday\, March 15th at 4:00 PM\n\nUnited Methodist Church of Vista (Sanctuary)\n\n490 S Melrose Dr\, Vista\, CA\n\nAdmission is free\, supported by a freewill offering. Come ready to listen\, ready to be inspired\, and above all\, ready to sing.
X-ALT-DESC;FMTTYPE=text/html:<span style="font-family:helvetica neue\,serif"><span style="font-size:10.0pt">Spring Hymn Festival</span></span><br />\n<span style="font-family:helvetica neue\,serif"><span style="font-size:10.0pt">Join the combined voices of the&nbsp\;<strong>United Methodist Church of Vista</strong>&nbsp\;and&nbsp\;<strong>Oceanside First Presbyterian Church</strong>&nbsp\;for an afternoon of timeless anthems\, favorite hymns\, and handbell arrangements. This is more than a concert&mdash\;it is a community sing! While our choirs lead with majestic choral arrangements and the roar of the pipe organ\, the heart of the festival is your voice. We invite you to sit among friends\, new and old\, to rediscover the melodies that have shaped our faith.</span></span><br />\n<strong><span style="font-family:helvetica neue\,serif"><span style="font-size:10.0pt">Sunday\, March 15th at 4:00 PM</span></span></strong><br />\n<strong><span style="font-family:helvetica neue\,serif"><span style="font-size:10.0pt">United Methodist Church of Vista (Sanctuary)</span></span></strong><br />\n<em><span style="font-family:helvetica neue\,serif"><span style="font-size:10.0pt">490 S Melrose Dr\, Vista\, CA</span></span></em><br />\n<span style="font-family:helvetica neue\,serif"><span style="font-size:10.0pt">Admission is free\, supported by a freewill offering. Come ready to listen\, ready to be inspired\, and above all\,&nbsp\;<strong>ready to sing.</strong></span></span><br />\n&nbsp\;
LOCATION:United Methodist Church of Vista 490 S. Melrose Drive Vista\, CA 92081
UID:e.493.32240
SEQUENCE:3
DTSTAMP:20260421T085119Z
URL:https://business.vistachamber.org/events/details/spring-hymn-festival-32240
END:VEVENT

END:VCALENDAR
