BEGIN:VCALENDAR
VERSION:2.0
PRODID:-//ChamberMaster//Event Calendar 2.0//EN
METHOD:PUBLISH
X-PUBLISHED-TTL:P3D
REFRESH-INTERVAL:P3D
CALSCALE:GREGORIAN
BEGIN:VEVENT
DTSTART:20250301T170000Z
DTEND:20250301T210000Z
X-MICROSOFT-CDO-ALLDAYEVENT:FALSE
SUMMARY:Stakeholders Day - Guajome Park Academy
DESCRIPTION:Join us for Stakeholders Day at Guajome\, a fantastic school-wide celebration showcasing the incredible talents and achievements of our students! Wander through campus and explore interactive and informative exhibits\, amazing student artwork\, and captivating performances on stage including drama\, music\, dance\, and our exciting international runway show. At Guajome Park Academy\, we believe that everyone plays a role in the success of our school. That means you families\, students\, staff\, and community members are all valued stakeholders\, and this event is a celebration of everyone in our school community. Enjoy delicious food\, fun games\, creative crafts\, and merchandise\, all brought to you by over 30 school clubs and sports teams. Don't miss this opportunity to experience the excellence of Guajome! Plus\, connect with a variety of community groups joining us to share resources\, opportunities\, and ways to get involved. Don't miss this exciting day of learning\, entertainment\, and celebration! We can't wait to see you on March 1st!
X-ALT-DESC;FMTTYPE=text/html:Join us for Stakeholders Day at Guajome\, a fantastic school-wide celebration showcasing the incredible talents and achievements of our students! Wander through campus and explore interactive and informative exhibits\, amazing student artwork\, and captivating performances on stage&mdash\;including drama\, music\, dance\, and our exciting international runway show. At Guajome Park Academy\, we believe that everyone plays a role in the success of our school. That means you&mdash\;families\, students\, staff\, and community members&mdash\;are all valued stakeholders\, and this event is a celebration of everyone in our school community. Enjoy delicious food\, fun games\, creative crafts\, and merchandise\, all brought to you by over 30 school clubs and sports teams. Don&rsquo\;t miss this opportunity to experience the excellence of Guajome! Plus\, connect with a variety of community groups joining us to share resources\, opportunities\, and ways to get involved. Don&rsquo\;t miss this exciting day of learning\, entertainment\, and celebration! We can&rsquo\;t wait to see you on March 1st!
LOCATION:Guajome Park Academy 2000 N Santa Fe Ave Vista\, CA 92083
UID:e.493.29185
SEQUENCE:3
DTSTAMP:20260422T115506Z
URL:https://business.vistachamber.org/events/details/stakeholders-day-guajome-park-academy-29185
END:VEVENT

END:VCALENDAR
