BEGIN:VCALENDAR
VERSION:2.0
PRODID:-//ChamberMaster//Event Calendar 2.0//EN
METHOD:PUBLISH
X-PUBLISHED-TTL:P3D
REFRESH-INTERVAL:P3D
CALSCALE:GREGORIAN
BEGIN:VEVENT
DTSTART:20240723T153000Z
DTEND:20240726T183000Z
X-MICROSOFT-CDO-ALLDAYEVENT:FALSE
SUMMARY:Summer Camp at Sand n Straw Farm: Cobb House Creations (Part 1)
DESCRIPTION:Cobb House Creations: Building\, Painting\, and Cave Art Adventure\n\nPart 1 (July 23rd)\n\nWelcome to Part 1 of Cobb House Creations! Throughout the week\, students will embark on an enriching journey of building\, painting\, and artistic expression while gaining valuable insights into the history and significance of shelter structures throughout time.\n\nAs students assist in constructing a second cobb house overlooking our farm\, they'll explore the history of shelter structures. From ancient mudbrick houses to medieval timber-framed buildings\, they'll learn how shelters protect us from the elements and predators\, ensuring safety and comfort.\n\nThrough engaging discussions\, students will discover the essential role of shelters in providing sanctuary throughout history. From sturdy castle walls to cozy teepees\, the diverse array of structures will inspire an appreciation for human ingenuity.\n\nWhile the cobb house walls dry\, students will unleash their creativity through painting and cave art. Inspired by ancient storytelling traditions\, they'll create their own cave art pieces\, preserving the legacy of Cobb House Creations for future generations.\n\nThroughout the week\, students will have the opportunity to develop practical skills in woodworking and sustainable construction practices\, with exciting projects such as constructing miniature lending libraries and birdhouses. Under the guidance of experienced instructors\, they'll learn safe tool handling\, precise wood cutting\, and eco-friendly building techniques. Join us for an adventure-filled week of building\, learning\, and artistic expression!\n\nSummer Camps are Tuesday-Friday from 8:30am-11:30am for ages 3-10. Cost is $330/camper
X-ALT-DESC;FMTTYPE=text/html:<h3 style="text-align:center"><strong>Cobb House Creations: Building\, Painting\, and Cave Art Adventure</strong></h3>\n\n<h3 style="text-align:center"><strong>Part 1</strong> (July 23rd)</h3>\n\n<p>Welcome to Part 1 of Cobb House Creations! Throughout the week\, students will embark on an enriching journey of building\, painting\, and artistic expression while gaining valuable insights into the history and significance of shelter structures throughout time.</p>\n\n<p>As students assist in constructing a second cobb house overlooking our farm\, they&#39\;ll explore the history of shelter structures. From ancient mudbrick houses to medieval timber-framed buildings\, they&#39\;ll learn how shelters protect us from the elements and predators\, ensuring safety and comfort.</p>\n\n<p>Through engaging discussions\, students will discover the essential role of shelters in providing sanctuary throughout history. From sturdy castle walls to cozy teepees\, the diverse array of structures will inspire an appreciation for human ingenuity.</p>\n\n<p>While the cobb house walls dry\, students will unleash their creativity through painting and cave art. Inspired by ancient storytelling traditions\, they&#39\;ll create their own cave art pieces\, preserving the legacy of Cobb House Creations for future generations.</p>\n\n<p>Throughout the week\, students will have the opportunity to develop practical skills in woodworking and sustainable construction practices\, with exciting projects such as constructing miniature lending libraries and birdhouses. Under the guidance of experienced instructors\, they&#39\;ll learn safe tool handling\, precise wood cutting\, and eco-friendly building techniques. Join us for an adventure-filled week of building\, learning\, and artistic expression!</p>\n\n<h4 style="text-align:center">Summer Camps are <em>Tuesday-Friday from 8:30am-11:30am for ages 3-10. Cost is $330/camper</em></h4>\n
LOCATION:Sand n Straw Community Farm 629 Mar Vista Dr. Vista\, CA 92081
UID:e.493.28087
SEQUENCE:3
DTSTAMP:20260423T081029Z
URL:https://business.vistachamber.org/events/details/summer-camp-at-sand-n-straw-farm-cobb-house-creations-part-1-28087
END:VEVENT

END:VCALENDAR
