BEGIN:VCALENDAR
VERSION:2.0
PRODID:-//ChamberMaster//Event Calendar 2.0//EN
METHOD:PUBLISH
X-PUBLISHED-TTL:P3D
REFRESH-INTERVAL:P3D
CALSCALE:GREGORIAN
BEGIN:VEVENT
DTSTART:20250713T020000Z
DTEND:20250713T050000Z
X-MICROSOFT-CDO-ALLDAYEVENT:FALSE
SUMMARY:Summer Movies in the Park: Despicable Me 4
DESCRIPTION:Gather with family and friends and head out for a FREE movie under the stars this summer! Relax on your blankets or lawn chairs\, enjoy snacks\, and soak up the warm summer breeze as you watch your favorite movies. Don't miss out on this unforgettable summer experience! All movies begin at dusk and are free. Tickets are not required.\n\n\n\nJuly Movie: Despicable Me 4
X-ALT-DESC;FMTTYPE=text/html:<span style="color: rgb(60\, 56\, 53)\; font-family: &quot\;Open Sans&quot\;\, sans-serif\; font-size: 16px\; letter-spacing: 0.16px\; background-color: rgb(245\, 240\, 227)\;">Gather with family and friends and head out for a FREE movie under the stars this summer! Relax on your blankets or lawn chairs\, enjoy snacks\, and soak up the warm summer breeze as you watch your favorite movies. Don&rsquo\;t miss out on this unforgettable summer experience!&nbsp\;</span><span style="box-sizing: border-box\; font-weight: 700\; color: rgb(60\, 56\, 53)\; font-family: &quot\;Open Sans&quot\;\, sans-serif\; font-size: 16px\; letter-spacing: 0.16px\; background-color: rgb(245\, 240\, 227)\;">All movies begin at dusk and are free. Tickets are not required.<br />\n<br />\nJuly Movie: Despicable Me 4</span>
LOCATION:Brengle Terrace Park Softball Fields 1200 Vale Terrace Dr. Vista\, CA 92084
UID:e.493.29438
SEQUENCE:3
DTSTAMP:20260422T192210Z
URL:https://business.vistachamber.org/events/details/summer-movies-in-the-park-despicable-me-4-29438
END:VEVENT

END:VCALENDAR
