BEGIN:VCALENDAR
VERSION:2.0
PRODID:-//ChamberMaster//Event Calendar 2.0//EN
METHOD:PUBLISH
X-PUBLISHED-TTL:P3D
REFRESH-INTERVAL:P3D
CALSCALE:GREGORIAN
BEGIN:VEVENT
DTSTART:20181028T010000Z
DTEND:20181028T040000Z
X-MICROSOFT-CDO-ALLDAYEVENT:FALSE
SUMMARY:Super Diamond
DESCRIPTION:A musical tribute to the much-loved Neil Diamond\, Super Diamond performs the international pop icon's timeless classics including "Sweet Caroline\," "America\," "Cracklin' Rosie\," and many more. With a nod from Neil Diamond himself\, his longtime fan base as well as new fans have embraced Super Diamond across America.
X-ALT-DESC;FMTTYPE=text/html:<span style="color: rgb(89\, 89\, 89)\; font-family: latobold\, arial\, sans-serif\; font-size: 16px\; background-color: rgb(253\, 252\, 253)\;">A musical tribute to the much-loved Neil Diamond\, Super Diamond performs the international pop icon&rsquo\;s timeless classics including &ldquo\;Sweet Caroline\,&rdquo\; &ldquo\;America\,&rdquo\; &ldquo\;Cracklin&rsquo\; Rosie\,&rdquo\; and many more. With a nod from Neil Diamond himself\, his longtime fan base as well as new fans have embraced Super Diamond across America.</span>
LOCATION:Moonlight Theatre 1200 Vale Terrace\, Vist5
UID:e.493.18610
SEQUENCE:3
DTSTAMP:20260424T163818Z
URL:https://business.vistachamber.org/events/details/super-diamond-18610
END:VEVENT

END:VCALENDAR
