BEGIN:VCALENDAR
VERSION:2.0
PRODID:-//ChamberMaster//Event Calendar 2.0//EN
METHOD:PUBLISH
X-PUBLISHED-TTL:P3D
REFRESH-INTERVAL:P3D
CALSCALE:GREGORIAN
BEGIN:VEVENT
DTSTART:20251126T000000Z
DTEND:20251126T040000Z
X-MICROSOFT-CDO-ALLDAYEVENT:FALSE
SUMMARY:Taco Tuesday
DESCRIPTION:Come join us at The Vistonian for some tacos\, beer\, and wine!
X-ALT-DESC;FMTTYPE=text/html:Come join us at The Vistonian for some tacos\, beer\, and wine!
LOCATION:The Vistonian Venue 306 S. Santa Fe Ave Vista\, Ca 92083
UID:e.493.29064
SEQUENCE:3
DTSTAMP:20260422T133230Z
URL:https://business.vistachamber.org/events/details/taco-tuesday-11-25-2025-29064
END:VEVENT

END:VCALENDAR
