BEGIN:VCALENDAR
VERSION:2.0
PRODID:-//ChamberMaster//Event Calendar 2.0//EN
METHOD:PUBLISH
X-PUBLISHED-TTL:P3D
REFRESH-INTERVAL:P3D
CALSCALE:GREGORIAN
BEGIN:VEVENT
DTSTART:20190519T003000Z
DTEND:20190519T050000Z
X-MICROSOFT-CDO-ALLDAYEVENT:FALSE
SUMMARY:The Moonlight Gala
DESCRIPTION:For more than 38 years\, Moonlight Cultural Foundation has been promoting performances\, theatre education\, and community outreach in our community. Proceeds raised from the event will benefit artistically innovative education programs for our youth and provide critical funding to insure the highest possible production quality for Moonlight Stage Productions. Join us as we celebrate and raise funds for The Moonlight!
X-ALT-DESC;FMTTYPE=text/html:For more than 38 years\, Moonlight Cultural Foundation has been promoting performances\, theatre education\, and community outreach in our community. Proceeds raised from the event will benefit artistically innovative education programs for our youth and provide critical funding to insure the highest possible production quality for Moonlight Stage Productions. Join us as we celebrate and raise funds for The Moonlight!
LOCATION:The Moonlight Amphitheatre
UID:e.493.18485
SEQUENCE:3
DTSTAMP:20260422T071359Z
URL:https://business.vistachamber.org/events/details/the-moonlight-gala-18485
END:VEVENT

END:VCALENDAR
