BEGIN:VCALENDAR
VERSION:2.0
PRODID:-//ChamberMaster//Event Calendar 2.0//EN
METHOD:PUBLISH
X-PUBLISHED-TTL:P3D
REFRESH-INTERVAL:P3D
CALSCALE:GREGORIAN
BEGIN:VEVENT
DTSTART:20250918T023000Z
DTEND:20250918T050000Z
X-MICROSOFT-CDO-ALLDAYEVENT:FALSE
SUMMARY:The Prince of Egypt The Musical
DESCRIPTION:Experience the epic emotion\, soaring music and breathtaking dance of The Prince of Egypt. Journey to Ancient Egypt for the saga of Moses and his brother Ramses\; two young men raised together as brothers in a kingdom of privilege\, find themselves suddenly divided by a secret past. One must rule as Pharaoh\, the other exiled\, finally returning to his home and fighting to free his people from the bonds of slavery. From the plagues of Egypt to parting the red seas\, this is an inspiring tale of resilience and hope.\n\nPrince of Egypt features a soaring score by Stephen Schwartz including 'Through Heaven's Eyes\,' 'Deliver Us\,' and the Academy Award winning song\, 'When You Believe.' Don't miss the California premiere of this West End smash!
X-ALT-DESC;FMTTYPE=text/html:<p style="box-sizing: border-box\; margin: 0px 0px 1em\; color: rgb(17\, 11\, 48)\; font-family: &quot\;Open Sans&quot\;\, sans-serif\; font-size: 20px\;"><span style="box-sizing: border-box\; background-color: transparent\; color: inherit\; font-size: inherit\;">Experience the epic emotion\, soaring music and breathtaking dance of&nbsp\;<em style="box-sizing: border-box\;">The Prince of Egypt</em>. Journey to Ancient Egypt for the saga of Moses and his brother Ramses\; two young men raised together as brothers in a kingdom of privilege\, find themselves suddenly divided by a secret past. One must rule as Pharaoh\, the other exiled\, finally returning to his home and fighting to free his people from the bonds of slavery. From the plagues of Egypt to parting the red seas\, this is an inspiring tale of resilience and hope.</span></p>\n\n<p style="box-sizing: border-box\; margin: 0px 0px 1em\; color: rgb(17\, 11\, 48)\; font-family: &quot\;Open Sans&quot\;\, sans-serif\; font-size: 20px\;"><span style="box-sizing: border-box\; background-color: transparent\; color: inherit\; font-size: inherit\;"><em style="box-sizing: border-box\;">Prince of Egypt</em>&nbsp\;features a soaring score by Stephen Schwartz including &lsquo\;Through Heaven&#39\;s Eyes\,&rsquo\; &lsquo\;Deliver Us\,&rsquo\; and the Academy Award winning song\, &lsquo\;When You Believe.&rsquo\; Don&#39\;t miss the California premiere of this West End smash!</span></p>\n
LOCATION:Moonlight Amphitheatre 1250 Vale Terrace Dr. Vista\, CA 92084
UID:e.493.29406
SEQUENCE:3
DTSTAMP:20260422T120021Z
URL:https://business.vistachamber.org/events/details/the-prince-of-egypt-the-musical-29406
END:VEVENT

END:VCALENDAR
