BEGIN:VCALENDAR
VERSION:2.0
PRODID:-//ChamberMaster//Event Calendar 2.0//EN
METHOD:PUBLISH
X-PUBLISHED-TTL:P3D
REFRESH-INTERVAL:P3D
CALSCALE:GREGORIAN
BEGIN:VEVENT
DTSTART:20240822T170000Z
DTEND:20240822T190000Z
X-MICROSOFT-CDO-ALLDAYEVENT:FALSE
SUMMARY:Time Capsule Opening
DESCRIPTION:We are delighted to invite you to join us for a very special opening of our 20 YEAR TIME CAPSULE! In 2004 Dignity Memorial\, Eternal Hills Memorial Park\, hosted the traveling experience of the Vietnam Memorial Wall. The burial of a time capsule followed this event! Now\, two decades later\, we are thrilled to invite you to a momentous occasion - the opening of our time capsule! This event marks a significant milestone for our community\, as we unveil the memories we collectively sealed two decades ago.
X-ALT-DESC;FMTTYPE=text/html:We are delighted to invite you to join us for a very special opening of our 20 YEAR TIME CAPSULE! In 2004 Dignity Memorial\, Eternal Hills Memorial Park\, hosted the traveling experience of the Vietnam Memorial Wall. The burial of a time capsule followed this event! Now\, two decades later\, we are thrilled to invite you to a momentous occasion - the opening of our time capsule! This event marks a significant milestone for our community\, as we unveil the memories we collectively sealed two decades ago.
LOCATION:Eternal Hills Memorial Park
UID:e.493.28654
SEQUENCE:3
DTSTAMP:20260423T052717Z
URL:https://business.vistachamber.org/events/details/time-capsule-opening-28654
END:VEVENT

END:VCALENDAR
