BEGIN:VCALENDAR
VERSION:2.0
PRODID:-//ChamberMaster//Event Calendar 2.0//EN
METHOD:PUBLISH
X-PUBLISHED-TTL:P3D
REFRESH-INTERVAL:P3D
CALSCALE:GREGORIAN
BEGIN:VEVENT
DTSTART:20251207T210000Z
DTEND:20251208T020000Z
X-MICROSOFT-CDO-ALLDAYEVENT:FALSE
SUMMARY:Tree Lighting Ceremony
DESCRIPTION:Vista Unified School District's Tree Lighting Ceremony\n\n\nGet ready for a festive kick-off!\n\nJoin us at the upcoming Vista Village Tree Lighting Ceremony!\n\nDate: Sunday\, December 7 2025\n\nTime: 1:00 PM   6:00 PM\n\n Location: In front of Cin polis Vista\, 25 Main St\, Vista\n\nExpect an afternoon brimming with holiday cheer   lively student performances from the Vista Unified School District (ukuleles\, steel drums\, ballet folkl rico\, choirs)\, a festive makers-market\, fun family activities\, and of course the moment we've all been waiting for: the tree lighting ceremony to launch the season with a sparkle!\n\nMark your calendar. Bring your holiday spirit. Let's light up Vista together!
X-ALT-DESC;FMTTYPE=text/html:<div class="subtitle" style="box-sizing: border-box\; font-size: 1.125rem\; letter-spacing: 1.8px\; line-height: 22px\; margin-bottom: 15px\; text-transform: uppercase\; color: rgb(77\, 79\, 81)\; font-family: Montserrat\, sans-serif\;">Vista Unified School District&#39\;s Tree Lighting Ceremony</div>\n\n<div class="desc" style="box-sizing: border-box\; letter-spacing: 0.96px\; font-size: 16px\; line-height: 26px\; margin: 30px auto\; padding: 0px\; color: rgb(77\, 79\, 81)\; font-family: Montserrat\, sans-serif\;">\n<p data-pasted="true" style="box-sizing: border-box\; margin-top: 0px\; margin-bottom: 1rem\;">Get ready for a festive kick-off!</p>\n\n<p style="box-sizing: border-box\; margin-top: 0px\; margin-bottom: 1rem\;">Join us at the upcoming Vista Village Tree Lighting Ceremony!</p>\n\n<p style="box-sizing: border-box\; margin-top: 0px\; margin-bottom: 1rem\;"><span style="box-sizing: border-box\; font-weight: bolder\;">Date: Sunday\, December 7 2025</span></p>\n\n<p style="box-sizing: border-box\; margin-top: 0px\; margin-bottom: 1rem\;"><span style="box-sizing: border-box\; font-weight: bolder\;">Time: 1:00 PM &ndash\; 6:00 PM</span></p>\n\n<p style="box-sizing: border-box\; margin-top: 0px\; margin-bottom: 1rem\;"><span style="box-sizing: border-box\; font-weight: bolder\;">&nbsp\;Location: In front of Cin&eacute\;polis Vista\, 25 Main St\, Vista</span></p>\n\n<p style="box-sizing: border-box\; margin-top: 0px\; margin-bottom: 1rem\;">Expect an afternoon brimming with holiday cheer &mdash\; lively student performances from the Vista Unified School District (ukuleles\, steel drums\, ballet folkl&oacute\;rico\, choirs)\, a festive makers-market\, fun family activities\, and of course the moment we&rsquo\;ve all been waiting for: the tree lighting ceremony to launch the season with a sparkle!</p>\n\n<p style="box-sizing: border-box\; margin-top: 0px\; margin-bottom: 1rem\;">Mark your calendar. Bring your holiday spirit. Let&rsquo\;s light up Vista together!</p>\n</div>\n
LOCATION:In front of Cinepolis Vista 25 Main St.
UID:e.493.29633
SEQUENCE:3
DTSTAMP:20260422T152553Z
URL:https://business.vistachamber.org/events/details/tree-lighting-ceremony-29633
END:VEVENT

END:VCALENDAR
