BEGIN:VCALENDAR
VERSION:2.0
PRODID:-//ChamberMaster//Event Calendar 2.0//EN
METHOD:PUBLISH
X-PUBLISHED-TTL:P3D
REFRESH-INTERVAL:P3D
CALSCALE:GREGORIAN
BEGIN:VEVENT
DTSTART:20241030T003000Z
DTEND:20241030T023000Z
X-MICROSOFT-CDO-ALLDAYEVENT:FALSE
SUMMARY:Tri-City Hospital Foundation Business Mixer
DESCRIPTION:Join the Tri-City Hospital Foundation for cocktails and hors d'oeuvres.\n\nRSVP to Deborah at (760) 940-3370 or email at DATrusty@tcmc.com.
X-ALT-DESC;FMTTYPE=text/html:Join the Tri-City Hospital Foundation for cocktails and hors d&#39\;oeuvres.<br />\nRSVP to Deborah at (760) 940-3370 or email at DATrusty@tcmc.com.
LOCATION:The Atrium Terrace | Westin Resort & Spa 5480 Grand Pacific Drive Carlsbad\, CA 92008
UID:e.493.29003
SEQUENCE:3
DTSTAMP:20260423T022555Z
URL:https://business.vistachamber.org/events/details/tri-city-hospital-foundation-business-mixer-29003
END:VEVENT

END:VCALENDAR
